BEGIN:VCALENDAR
VERSION:2.0
PRODID:https://www.kufer.de/kuferweb / DE
METHOD:PUBLISH
CALSCALE:GREGORIAN
X-WR-TIMEZONE:Europe/Berlin
BEGIN:VTIMEZONE
TZID:Europe/Berlin
X-LIC-LOCATION:Europe/Berlin
BEGIN:DAYLIGHT
TZOFFSETFROM:+0100
TZOFFSETTO:+0200
TZNAME:CEST
DTSTART:19700329T020000
RRULE:FREQ=YEARLY;INTERVAL=1;BYDAY=-1SU;BYMONTH=3
END:DAYLIGHT
BEGIN:STANDARD
TZOFFSETFROM:+0200
TZOFFSETTO:+0100
TZNAME:CET
DTSTART:19701025T030000
RRULE:FREQ=YEARLY;INTERVAL=1;BYDAY=-1SU;BYMONTH=10
END:STANDARD
END:VTIMEZONE
BEGIN:VEVENT
DTSTAMP:20260425T034104
DTSTART;TZID=Europe/Berlin:20260810T183000
DTEND;TZID=Europe/Berlin:20260810T200000
UID:26SK35-20260810T183000@CSHFREIBURG
SUMMARY:Summer Business English B1-B2 (26SK35) 
LOCATION:CSH, Kursraum 6, Eisenbahnstr. 62, 79098 Freiburg
END:VEVENT
BEGIN:VEVENT
DTSTAMP:20260425T034104
DTSTART;TZID=Europe/Berlin:20260812T183000
DTEND;TZID=Europe/Berlin:20260812T200000
UID:26SK35-20260812T183000@CSHFREIBURG
SUMMARY:Summer Business English B1-B2 (26SK35) 
LOCATION:CSH, Kursraum 6, Eisenbahnstr. 62, 79098 Freiburg
END:VEVENT
BEGIN:VEVENT
DTSTAMP:20260425T034104
DTSTART;TZID=Europe/Berlin:20260817T183000
DTEND;TZID=Europe/Berlin:20260817T200000
UID:26SK35-20260817T183000@CSHFREIBURG
SUMMARY:Summer Business English B1-B2 (26SK35) 
LOCATION:CSH, Kursraum 6, Eisenbahnstr. 62, 79098 Freiburg
END:VEVENT
BEGIN:VEVENT
DTSTAMP:20260425T034104
DTSTART;TZID=Europe/Berlin:20260819T183000
DTEND;TZID=Europe/Berlin:20260819T200000
UID:26SK35-20260819T183000@CSHFREIBURG
SUMMARY:Summer Business English B1-B2 (26SK35) 
LOCATION:CSH, Kursraum 6, Eisenbahnstr. 62, 79098 Freiburg
END:VEVENT
BEGIN:VEVENT
DTSTAMP:20260425T034104
DTSTART;TZID=Europe/Berlin:20260824T183000
DTEND;TZID=Europe/Berlin:20260824T200000
UID:26SK35-20260824T183000@CSHFREIBURG
SUMMARY:Summer Business English B1-B2 (26SK35) 
LOCATION:CSH, Kursraum 6, Eisenbahnstr. 62, 79098 Freiburg
END:VEVENT
BEGIN:VEVENT
DTSTAMP:20260425T034104
DTSTART;TZID=Europe/Berlin:20260826T183000
DTEND;TZID=Europe/Berlin:20260826T200000
UID:26SK35-20260826T183000@CSHFREIBURG
SUMMARY:Summer Business English B1-B2 (26SK35) 
LOCATION:CSH, Kursraum 6, Eisenbahnstr. 62, 79098 Freiburg
END:VEVENT
BEGIN:VEVENT
DTSTAMP:20260425T034104
DTSTART;TZID=Europe/Berlin:20260831T183000
DTEND;TZID=Europe/Berlin:20260831T200000
UID:26SK35-20260831T183000@CSHFREIBURG
SUMMARY:Summer Business English B1-B2 (26SK35) 
LOCATION:CSH, Kursraum 6, Eisenbahnstr. 62, 79098 Freiburg
END:VEVENT
BEGIN:VEVENT
DTSTAMP:20260425T034104
DTSTART;TZID=Europe/Berlin:20260902T183000
DTEND;TZID=Europe/Berlin:20260902T200000
UID:26SK35-20260902T183000@CSHFREIBURG
SUMMARY:Summer Business English B1-B2 (26SK35) 
LOCATION:CSH, Kursraum 6, Eisenbahnstr. 62, 79098 Freiburg
END:VEVENT
END:VCALENDAR