BEGIN:VCALENDAR
VERSION:2.0
PRODID:https://www.kufer.de/kuferweb / DE
METHOD:PUBLISH
CALSCALE:GREGORIAN
X-WR-TIMEZONE:Europe/Berlin
BEGIN:VTIMEZONE
TZID:Europe/Berlin
X-LIC-LOCATION:Europe/Berlin
BEGIN:DAYLIGHT
TZOFFSETFROM:+0100
TZOFFSETTO:+0200
TZNAME:CEST
DTSTART:19700329T020000
RRULE:FREQ=YEARLY;INTERVAL=1;BYDAY=-1SU;BYMONTH=3
END:DAYLIGHT
BEGIN:STANDARD
TZOFFSETFROM:+0200
TZOFFSETTO:+0100
TZNAME:CET
DTSTART:19701025T030000
RRULE:FREQ=YEARLY;INTERVAL=1;BYDAY=-1SU;BYMONTH=10
END:STANDARD
END:VTIMEZONE
BEGIN:VEVENT
DTSTAMP:20260425T034105
DTSTART;TZID=Europe/Berlin:20260714T183000
DTEND;TZID=Europe/Berlin:20260714T200000
UID:26SK30-20260714T183000@CSHFREIBURG
SUMMARY:Summer Business English B1-B2 (26SK30) 
LOCATION:CSH, Kursraum 6, Eisenbahnstr. 62, 79098 Freiburg
END:VEVENT
BEGIN:VEVENT
DTSTAMP:20260425T034105
DTSTART;TZID=Europe/Berlin:20260716T183000
DTEND;TZID=Europe/Berlin:20260716T200000
UID:26SK30-20260716T183000@CSHFREIBURG
SUMMARY:Summer Business English B1-B2 (26SK30) 
LOCATION:CSH, Kursraum 6, Eisenbahnstr. 62, 79098 Freiburg
END:VEVENT
BEGIN:VEVENT
DTSTAMP:20260425T034105
DTSTART;TZID=Europe/Berlin:20260721T183000
DTEND;TZID=Europe/Berlin:20260721T200000
UID:26SK30-20260721T183000@CSHFREIBURG
SUMMARY:Summer Business English B1-B2 (26SK30) 
LOCATION:CSH, Kursraum 6, Eisenbahnstr. 62, 79098 Freiburg
END:VEVENT
BEGIN:VEVENT
DTSTAMP:20260425T034105
DTSTART;TZID=Europe/Berlin:20260723T183000
DTEND;TZID=Europe/Berlin:20260723T200000
UID:26SK30-20260723T183000@CSHFREIBURG
SUMMARY:Summer Business English B1-B2 (26SK30) 
LOCATION:CSH, Kursraum 6, Eisenbahnstr. 62, 79098 Freiburg
END:VEVENT
BEGIN:VEVENT
DTSTAMP:20260425T034105
DTSTART;TZID=Europe/Berlin:20260728T183000
DTEND;TZID=Europe/Berlin:20260728T200000
UID:26SK30-20260728T183000@CSHFREIBURG
SUMMARY:Summer Business English B1-B2 (26SK30) 
LOCATION:CSH, Kursraum 6, Eisenbahnstr. 62, 79098 Freiburg
END:VEVENT
BEGIN:VEVENT
DTSTAMP:20260425T034105
DTSTART;TZID=Europe/Berlin:20260730T183000
DTEND;TZID=Europe/Berlin:20260730T200000
UID:26SK30-20260730T183000@CSHFREIBURG
SUMMARY:Summer Business English B1-B2 (26SK30) 
LOCATION:CSH, Kursraum 6, Eisenbahnstr. 62, 79098 Freiburg
END:VEVENT
BEGIN:VEVENT
DTSTAMP:20260425T034105
DTSTART;TZID=Europe/Berlin:20260804T183000
DTEND;TZID=Europe/Berlin:20260804T200000
UID:26SK30-20260804T183000@CSHFREIBURG
SUMMARY:Summer Business English B1-B2 (26SK30) 
LOCATION:CSH, Kursraum 6, Eisenbahnstr. 62, 79098 Freiburg
END:VEVENT
BEGIN:VEVENT
DTSTAMP:20260425T034105
DTSTART;TZID=Europe/Berlin:20260806T183000
DTEND;TZID=Europe/Berlin:20260806T200000
UID:26SK30-20260806T183000@CSHFREIBURG
SUMMARY:Summer Business English B1-B2 (26SK30) 
LOCATION:CSH, Kursraum 6, Eisenbahnstr. 62, 79098 Freiburg
END:VEVENT
END:VCALENDAR