BEGIN:VCALENDAR
VERSION:2.0
PRODID:https://www.kufer.de/kuferweb / DE
METHOD:PUBLISH
CALSCALE:GREGORIAN
X-WR-TIMEZONE:Europe/Berlin
BEGIN:VTIMEZONE
TZID:Europe/Berlin
X-LIC-LOCATION:Europe/Berlin
BEGIN:DAYLIGHT
TZOFFSETFROM:+0100
TZOFFSETTO:+0200
TZNAME:CEST
DTSTART:19700329T020000
RRULE:FREQ=YEARLY;INTERVAL=1;BYDAY=-1SU;BYMONTH=3
END:DAYLIGHT
BEGIN:STANDARD
TZOFFSETFROM:+0200
TZOFFSETTO:+0100
TZNAME:CET
DTSTART:19701025T030000
RRULE:FREQ=YEARLY;INTERVAL=1;BYDAY=-1SU;BYMONTH=10
END:STANDARD
END:VTIMEZONE
BEGIN:VEVENT
DTSTAMP:20260425T034103
DTSTART;TZID=Europe/Berlin:20260811T183000
DTEND;TZID=Europe/Berlin:20260811T200000
UID:26SK26-20260811T183000@CSHFREIBURG
SUMMARY:Conversation Breeze B2-C2 (26SK26) 
LOCATION:CSH, Kursraum 4, Eisenbahnstr. 62, 79098 Freiburg
END:VEVENT
BEGIN:VEVENT
DTSTAMP:20260425T034103
DTSTART;TZID=Europe/Berlin:20260813T183000
DTEND;TZID=Europe/Berlin:20260813T200000
UID:26SK26-20260813T183000@CSHFREIBURG
SUMMARY:Conversation Breeze B2-C2 (26SK26) 
LOCATION:CSH, Kursraum 4, Eisenbahnstr. 62, 79098 Freiburg
END:VEVENT
BEGIN:VEVENT
DTSTAMP:20260425T034103
DTSTART;TZID=Europe/Berlin:20260818T183000
DTEND;TZID=Europe/Berlin:20260818T200000
UID:26SK26-20260818T183000@CSHFREIBURG
SUMMARY:Conversation Breeze B2-C2 (26SK26) 
LOCATION:CSH, Kursraum 4, Eisenbahnstr. 62, 79098 Freiburg
END:VEVENT
BEGIN:VEVENT
DTSTAMP:20260425T034103
DTSTART;TZID=Europe/Berlin:20260820T183000
DTEND;TZID=Europe/Berlin:20260820T200000
UID:26SK26-20260820T183000@CSHFREIBURG
SUMMARY:Conversation Breeze B2-C2 (26SK26) 
LOCATION:CSH, Kursraum 4, Eisenbahnstr. 62, 79098 Freiburg
END:VEVENT
BEGIN:VEVENT
DTSTAMP:20260425T034103
DTSTART;TZID=Europe/Berlin:20260825T183000
DTEND;TZID=Europe/Berlin:20260825T200000
UID:26SK26-20260825T183000@CSHFREIBURG
SUMMARY:Conversation Breeze B2-C2 (26SK26) 
LOCATION:CSH, Kursraum 4, Eisenbahnstr. 62, 79098 Freiburg
END:VEVENT
BEGIN:VEVENT
DTSTAMP:20260425T034103
DTSTART;TZID=Europe/Berlin:20260827T183000
DTEND;TZID=Europe/Berlin:20260827T200000
UID:26SK26-20260827T183000@CSHFREIBURG
SUMMARY:Conversation Breeze B2-C2 (26SK26) 
LOCATION:CSH, Kursraum 4, Eisenbahnstr. 62, 79098 Freiburg
END:VEVENT
BEGIN:VEVENT
DTSTAMP:20260425T034103
DTSTART;TZID=Europe/Berlin:20260901T183000
DTEND;TZID=Europe/Berlin:20260901T200000
UID:26SK26-20260901T183000@CSHFREIBURG
SUMMARY:Conversation Breeze B2-C2 (26SK26) 
LOCATION:CSH, Kursraum 4, Eisenbahnstr. 62, 79098 Freiburg
END:VEVENT
BEGIN:VEVENT
DTSTAMP:20260425T034103
DTSTART;TZID=Europe/Berlin:20260903T183000
DTEND;TZID=Europe/Berlin:20260903T200000
UID:26SK26-20260903T183000@CSHFREIBURG
SUMMARY:Conversation Breeze B2-C2 (26SK26) 
LOCATION:CSH, Kursraum 4, Eisenbahnstr. 62, 79098 Freiburg
END:VEVENT
END:VCALENDAR