BEGIN:VCALENDAR
VERSION:2.0
PRODID:https://www.kufer.de/kuferweb / DE
METHOD:PUBLISH
CALSCALE:GREGORIAN
X-WR-TIMEZONE:Europe/Berlin
BEGIN:VTIMEZONE
TZID:Europe/Berlin
X-LIC-LOCATION:Europe/Berlin
BEGIN:DAYLIGHT
TZOFFSETFROM:+0100
TZOFFSETTO:+0200
TZNAME:CEST
DTSTART:19700329T020000
RRULE:FREQ=YEARLY;INTERVAL=1;BYDAY=-1SU;BYMONTH=3
END:DAYLIGHT
BEGIN:STANDARD
TZOFFSETFROM:+0200
TZOFFSETTO:+0100
TZNAME:CET
DTSTART:19701025T030000
RRULE:FREQ=YEARLY;INTERVAL=1;BYDAY=-1SU;BYMONTH=10
END:STANDARD
END:VTIMEZONE
BEGIN:VEVENT
DTSTAMP:20260425T034146
DTSTART;TZID=Europe/Berlin:20260713T183000
DTEND;TZID=Europe/Berlin:20260713T200000
UID:26SK25-20260713T183000@CSHFREIBURG
SUMMARY:Conversation Breeze B2-C2 (26SK25) 
LOCATION:CSH, Kursraum 4, Eisenbahnstr. 62, 79098 Freiburg
END:VEVENT
BEGIN:VEVENT
DTSTAMP:20260425T034146
DTSTART;TZID=Europe/Berlin:20260715T183000
DTEND;TZID=Europe/Berlin:20260715T200000
UID:26SK25-20260715T183000@CSHFREIBURG
SUMMARY:Conversation Breeze B2-C2 (26SK25) 
LOCATION:CSH, Kursraum 4, Eisenbahnstr. 62, 79098 Freiburg
END:VEVENT
BEGIN:VEVENT
DTSTAMP:20260425T034146
DTSTART;TZID=Europe/Berlin:20260720T183000
DTEND;TZID=Europe/Berlin:20260720T200000
UID:26SK25-20260720T183000@CSHFREIBURG
SUMMARY:Conversation Breeze B2-C2 (26SK25) 
LOCATION:CSH, Kursraum 4, Eisenbahnstr. 62, 79098 Freiburg
END:VEVENT
BEGIN:VEVENT
DTSTAMP:20260425T034146
DTSTART;TZID=Europe/Berlin:20260722T183000
DTEND;TZID=Europe/Berlin:20260722T200000
UID:26SK25-20260722T183000@CSHFREIBURG
SUMMARY:Conversation Breeze B2-C2 (26SK25) 
LOCATION:CSH, Kursraum 4, Eisenbahnstr. 62, 79098 Freiburg
END:VEVENT
BEGIN:VEVENT
DTSTAMP:20260425T034146
DTSTART;TZID=Europe/Berlin:20260727T183000
DTEND;TZID=Europe/Berlin:20260727T200000
UID:26SK25-20260727T183000@CSHFREIBURG
SUMMARY:Conversation Breeze B2-C2 (26SK25) 
LOCATION:CSH, Kursraum 4, Eisenbahnstr. 62, 79098 Freiburg
END:VEVENT
BEGIN:VEVENT
DTSTAMP:20260425T034146
DTSTART;TZID=Europe/Berlin:20260729T183000
DTEND;TZID=Europe/Berlin:20260729T200000
UID:26SK25-20260729T183000@CSHFREIBURG
SUMMARY:Conversation Breeze B2-C2 (26SK25) 
LOCATION:CSH, Kursraum 4, Eisenbahnstr. 62, 79098 Freiburg
END:VEVENT
BEGIN:VEVENT
DTSTAMP:20260425T034146
DTSTART;TZID=Europe/Berlin:20260803T183000
DTEND;TZID=Europe/Berlin:20260803T200000
UID:26SK25-20260803T183000@CSHFREIBURG
SUMMARY:Conversation Breeze B2-C2 (26SK25) 
LOCATION:CSH, Kursraum 4, Eisenbahnstr. 62, 79098 Freiburg
END:VEVENT
BEGIN:VEVENT
DTSTAMP:20260425T034146
DTSTART;TZID=Europe/Berlin:20260805T183000
DTEND;TZID=Europe/Berlin:20260805T200000
UID:26SK25-20260805T183000@CSHFREIBURG
SUMMARY:Conversation Breeze B2-C2 (26SK25) 
LOCATION:CSH, Kursraum 4, Eisenbahnstr. 62, 79098 Freiburg
END:VEVENT
END:VCALENDAR