BEGIN:VCALENDAR
VERSION:2.0
PRODID:https://www.kufer.de/kuferweb / DE
METHOD:PUBLISH
CALSCALE:GREGORIAN
X-WR-TIMEZONE:Europe/Berlin
BEGIN:VTIMEZONE
TZID:Europe/Berlin
X-LIC-LOCATION:Europe/Berlin
BEGIN:DAYLIGHT
TZOFFSETFROM:+0100
TZOFFSETTO:+0200
TZNAME:CEST
DTSTART:19700329T020000
RRULE:FREQ=YEARLY;INTERVAL=1;BYDAY=-1SU;BYMONTH=3
END:DAYLIGHT
BEGIN:STANDARD
TZOFFSETFROM:+0200
TZOFFSETTO:+0100
TZNAME:CET
DTSTART:19701025T030000
RRULE:FREQ=YEARLY;INTERVAL=1;BYDAY=-1SU;BYMONTH=10
END:STANDARD
END:VTIMEZONE
BEGIN:VEVENT
DTSTAMP:20260425T034105
DTSTART;TZID=Europe/Berlin:20260714T200000
DTEND;TZID=Europe/Berlin:20260714T210000
UID:26SK21-20260714T200000@CSHFREIBURG
SUMMARY:Summer More Than Words B1-B2 (26SK21) 
LOCATION:Online (L2)
END:VEVENT
BEGIN:VEVENT
DTSTAMP:20260425T034105
DTSTART;TZID=Europe/Berlin:20260721T200000
DTEND;TZID=Europe/Berlin:20260721T210000
UID:26SK21-20260721T200000@CSHFREIBURG
SUMMARY:Summer More Than Words B1-B2 (26SK21) 
LOCATION:Online (L2)
END:VEVENT
BEGIN:VEVENT
DTSTAMP:20260425T034105
DTSTART;TZID=Europe/Berlin:20260728T200000
DTEND;TZID=Europe/Berlin:20260728T210000
UID:26SK21-20260728T200000@CSHFREIBURG
SUMMARY:Summer More Than Words B1-B2 (26SK21) 
LOCATION:Online (L2)
END:VEVENT
BEGIN:VEVENT
DTSTAMP:20260425T034105
DTSTART;TZID=Europe/Berlin:20260804T200000
DTEND;TZID=Europe/Berlin:20260804T210000
UID:26SK21-20260804T200000@CSHFREIBURG
SUMMARY:Summer More Than Words B1-B2 (26SK21) 
LOCATION:Online (L2)
END:VEVENT
BEGIN:VEVENT
DTSTAMP:20260425T034105
DTSTART;TZID=Europe/Berlin:20260811T200000
DTEND;TZID=Europe/Berlin:20260811T210000
UID:26SK21-20260811T200000@CSHFREIBURG
SUMMARY:Summer More Than Words B1-B2 (26SK21) 
LOCATION:Online (L2)
END:VEVENT
BEGIN:VEVENT
DTSTAMP:20260425T034105
DTSTART;TZID=Europe/Berlin:20260818T200000
DTEND;TZID=Europe/Berlin:20260818T210000
UID:26SK21-20260818T200000@CSHFREIBURG
SUMMARY:Summer More Than Words B1-B2 (26SK21) 
LOCATION:Online (L2)
END:VEVENT
BEGIN:VEVENT
DTSTAMP:20260425T034105
DTSTART;TZID=Europe/Berlin:20260825T200000
DTEND;TZID=Europe/Berlin:20260825T210000
UID:26SK21-20260825T200000@CSHFREIBURG
SUMMARY:Summer More Than Words B1-B2 (26SK21) 
LOCATION:Online (L2)
END:VEVENT
BEGIN:VEVENT
DTSTAMP:20260425T034105
DTSTART;TZID=Europe/Berlin:20260901T200000
DTEND;TZID=Europe/Berlin:20260901T210000
UID:26SK21-20260901T200000@CSHFREIBURG
SUMMARY:Summer More Than Words B1-B2 (26SK21) 
LOCATION:Online (L2)
END:VEVENT
END:VCALENDAR