BEGIN:VCALENDAR
VERSION:2.0
PRODID:https://www.kufer.de/kuferweb / DE
METHOD:PUBLISH
CALSCALE:GREGORIAN
X-WR-TIMEZONE:Europe/Berlin
BEGIN:VTIMEZONE
TZID:Europe/Berlin
X-LIC-LOCATION:Europe/Berlin
BEGIN:DAYLIGHT
TZOFFSETFROM:+0100
TZOFFSETTO:+0200
TZNAME:CEST
DTSTART:19700329T020000
RRULE:FREQ=YEARLY;INTERVAL=1;BYDAY=-1SU;BYMONTH=3
END:DAYLIGHT
BEGIN:STANDARD
TZOFFSETFROM:+0200
TZOFFSETTO:+0100
TZNAME:CET
DTSTART:19701025T030000
RRULE:FREQ=YEARLY;INTERVAL=1;BYDAY=-1SU;BYMONTH=10
END:STANDARD
END:VTIMEZONE
BEGIN:VEVENT
DTSTAMP:20260425T034103
DTSTART;TZID=Europe/Berlin:20260713T181500
DTEND;TZID=Europe/Berlin:20260713T194500
UID:26SK12-20260713T181500@CSHFREIBURG
SUMMARY:Summer Refresher B1 (26SK12) 
LOCATION:CSH, Kursraum 2, Eisenbahnstr. 62, 79098 Freiburg
END:VEVENT
BEGIN:VEVENT
DTSTAMP:20260425T034103
DTSTART;TZID=Europe/Berlin:20260714T181500
DTEND;TZID=Europe/Berlin:20260714T194500
UID:26SK12-20260714T181500@CSHFREIBURG
SUMMARY:Summer Refresher B1 (26SK12) 
LOCATION:CSH, Kursraum 2, Eisenbahnstr. 62, 79098 Freiburg
END:VEVENT
BEGIN:VEVENT
DTSTAMP:20260425T034103
DTSTART;TZID=Europe/Berlin:20260716T181500
DTEND;TZID=Europe/Berlin:20260716T194500
UID:26SK12-20260716T181500@CSHFREIBURG
SUMMARY:Summer Refresher B1 (26SK12) 
LOCATION:CSH, Kursraum 2, Eisenbahnstr. 62, 79098 Freiburg
END:VEVENT
BEGIN:VEVENT
DTSTAMP:20260425T034103
DTSTART;TZID=Europe/Berlin:20260720T181500
DTEND;TZID=Europe/Berlin:20260720T194500
UID:26SK12-20260720T181500@CSHFREIBURG
SUMMARY:Summer Refresher B1 (26SK12) 
LOCATION:CSH, Kursraum 2, Eisenbahnstr. 62, 79098 Freiburg
END:VEVENT
BEGIN:VEVENT
DTSTAMP:20260425T034103
DTSTART;TZID=Europe/Berlin:20260721T181500
DTEND;TZID=Europe/Berlin:20260721T194500
UID:26SK12-20260721T181500@CSHFREIBURG
SUMMARY:Summer Refresher B1 (26SK12) 
LOCATION:CSH, Kursraum 2, Eisenbahnstr. 62, 79098 Freiburg
END:VEVENT
BEGIN:VEVENT
DTSTAMP:20260425T034103
DTSTART;TZID=Europe/Berlin:20260723T181500
DTEND;TZID=Europe/Berlin:20260723T194500
UID:26SK12-20260723T181500@CSHFREIBURG
SUMMARY:Summer Refresher B1 (26SK12) 
LOCATION:CSH, Kursraum 2, Eisenbahnstr. 62, 79098 Freiburg
END:VEVENT
BEGIN:VEVENT
DTSTAMP:20260425T034103
DTSTART;TZID=Europe/Berlin:20260727T181500
DTEND;TZID=Europe/Berlin:20260727T194500
UID:26SK12-20260727T181500@CSHFREIBURG
SUMMARY:Summer Refresher B1 (26SK12) 
LOCATION:CSH, Kursraum 2, Eisenbahnstr. 62, 79098 Freiburg
END:VEVENT
BEGIN:VEVENT
DTSTAMP:20260425T034103
DTSTART;TZID=Europe/Berlin:20260728T181500
DTEND;TZID=Europe/Berlin:20260728T194500
UID:26SK12-20260728T181500@CSHFREIBURG
SUMMARY:Summer Refresher B1 (26SK12) 
LOCATION:CSH, Kursraum 2, Eisenbahnstr. 62, 79098 Freiburg
END:VEVENT
BEGIN:VEVENT
DTSTAMP:20260425T034103
DTSTART;TZID=Europe/Berlin:20260730T181500
DTEND;TZID=Europe/Berlin:20260730T194500
UID:26SK12-20260730T181500@CSHFREIBURG
SUMMARY:Summer Refresher B1 (26SK12) 
LOCATION:CSH, Kursraum 2, Eisenbahnstr. 62, 79098 Freiburg
END:VEVENT
BEGIN:VEVENT
DTSTAMP:20260425T034103
DTSTART;TZID=Europe/Berlin:20260803T181500
DTEND;TZID=Europe/Berlin:20260803T194500
UID:26SK12-20260803T181500@CSHFREIBURG
SUMMARY:Summer Refresher B1 (26SK12) 
LOCATION:CSH, Kursraum 2, Eisenbahnstr. 62, 79098 Freiburg
END:VEVENT
BEGIN:VEVENT
DTSTAMP:20260425T034103
DTSTART;TZID=Europe/Berlin:20260804T181500
DTEND;TZID=Europe/Berlin:20260804T194500
UID:26SK12-20260804T181500@CSHFREIBURG
SUMMARY:Summer Refresher B1 (26SK12) 
LOCATION:CSH, Kursraum 2, Eisenbahnstr. 62, 79098 Freiburg
END:VEVENT
BEGIN:VEVENT
DTSTAMP:20260425T034103
DTSTART;TZID=Europe/Berlin:20260806T181500
DTEND;TZID=Europe/Berlin:20260806T194500
UID:26SK12-20260806T181500@CSHFREIBURG
SUMMARY:Summer Refresher B1 (26SK12) 
LOCATION:CSH, Kursraum 2, Eisenbahnstr. 62, 79098 Freiburg
END:VEVENT
END:VCALENDAR