BEGIN:VCALENDAR
VERSION:2.0
PRODID:https://www.kufer.de/kuferweb / DE
METHOD:PUBLISH
CALSCALE:GREGORIAN
X-WR-TIMEZONE:Europe/Berlin
BEGIN:VTIMEZONE
TZID:Europe/Berlin
X-LIC-LOCATION:Europe/Berlin
BEGIN:DAYLIGHT
TZOFFSETFROM:+0100
TZOFFSETTO:+0200
TZNAME:CEST
DTSTART:19700329T020000
RRULE:FREQ=YEARLY;INTERVAL=1;BYDAY=-1SU;BYMONTH=3
END:DAYLIGHT
BEGIN:STANDARD
TZOFFSETFROM:+0200
TZOFFSETTO:+0100
TZNAME:CET
DTSTART:19701025T030000
RRULE:FREQ=YEARLY;INTERVAL=1;BYDAY=-1SU;BYMONTH=10
END:STANDARD
END:VTIMEZONE
BEGIN:VEVENT
DTSTAMP:20260425T034104
DTSTART;TZID=Europe/Berlin:20260810T181500
DTEND;TZID=Europe/Berlin:20260810T194500
UID:26SK11-20260810T181500@CSHFREIBURG
SUMMARY:Summer Refresher A2 (26SK11) 
LOCATION:CSH, Kursraum 3, Eisenbahnstr. 62, 79098 Freiburg
END:VEVENT
BEGIN:VEVENT
DTSTAMP:20260425T034104
DTSTART;TZID=Europe/Berlin:20260811T181500
DTEND;TZID=Europe/Berlin:20260811T194500
UID:26SK11-20260811T181500@CSHFREIBURG
SUMMARY:Summer Refresher A2 (26SK11) 
LOCATION:CSH, Kursraum 3, Eisenbahnstr. 62, 79098 Freiburg
END:VEVENT
BEGIN:VEVENT
DTSTAMP:20260425T034104
DTSTART;TZID=Europe/Berlin:20260813T181500
DTEND;TZID=Europe/Berlin:20260813T194500
UID:26SK11-20260813T181500@CSHFREIBURG
SUMMARY:Summer Refresher A2 (26SK11) 
LOCATION:CSH, Kursraum 3, Eisenbahnstr. 62, 79098 Freiburg
END:VEVENT
BEGIN:VEVENT
DTSTAMP:20260425T034104
DTSTART;TZID=Europe/Berlin:20260817T181500
DTEND;TZID=Europe/Berlin:20260817T194500
UID:26SK11-20260817T181500@CSHFREIBURG
SUMMARY:Summer Refresher A2 (26SK11) 
LOCATION:CSH, Kursraum 3, Eisenbahnstr. 62, 79098 Freiburg
END:VEVENT
BEGIN:VEVENT
DTSTAMP:20260425T034104
DTSTART;TZID=Europe/Berlin:20260818T181500
DTEND;TZID=Europe/Berlin:20260818T194500
UID:26SK11-20260818T181500@CSHFREIBURG
SUMMARY:Summer Refresher A2 (26SK11) 
LOCATION:CSH, Kursraum 3, Eisenbahnstr. 62, 79098 Freiburg
END:VEVENT
BEGIN:VEVENT
DTSTAMP:20260425T034104
DTSTART;TZID=Europe/Berlin:20260820T181500
DTEND;TZID=Europe/Berlin:20260820T194500
UID:26SK11-20260820T181500@CSHFREIBURG
SUMMARY:Summer Refresher A2 (26SK11) 
LOCATION:CSH, Kursraum 3, Eisenbahnstr. 62, 79098 Freiburg
END:VEVENT
BEGIN:VEVENT
DTSTAMP:20260425T034104
DTSTART;TZID=Europe/Berlin:20260824T181500
DTEND;TZID=Europe/Berlin:20260824T194500
UID:26SK11-20260824T181500@CSHFREIBURG
SUMMARY:Summer Refresher A2 (26SK11) 
LOCATION:CSH, Kursraum 3, Eisenbahnstr. 62, 79098 Freiburg
END:VEVENT
BEGIN:VEVENT
DTSTAMP:20260425T034104
DTSTART;TZID=Europe/Berlin:20260825T181500
DTEND;TZID=Europe/Berlin:20260825T194500
UID:26SK11-20260825T181500@CSHFREIBURG
SUMMARY:Summer Refresher A2 (26SK11) 
LOCATION:CSH, Kursraum 3, Eisenbahnstr. 62, 79098 Freiburg
END:VEVENT
BEGIN:VEVENT
DTSTAMP:20260425T034104
DTSTART;TZID=Europe/Berlin:20260827T181500
DTEND;TZID=Europe/Berlin:20260827T194500
UID:26SK11-20260827T181500@CSHFREIBURG
SUMMARY:Summer Refresher A2 (26SK11) 
LOCATION:CSH, Kursraum 3, Eisenbahnstr. 62, 79098 Freiburg
END:VEVENT
BEGIN:VEVENT
DTSTAMP:20260425T034104
DTSTART;TZID=Europe/Berlin:20260831T181500
DTEND;TZID=Europe/Berlin:20260831T194500
UID:26SK11-20260831T181500@CSHFREIBURG
SUMMARY:Summer Refresher A2 (26SK11) 
LOCATION:CSH, Kursraum 3, Eisenbahnstr. 62, 79098 Freiburg
END:VEVENT
BEGIN:VEVENT
DTSTAMP:20260425T034104
DTSTART;TZID=Europe/Berlin:20260901T181500
DTEND;TZID=Europe/Berlin:20260901T194500
UID:26SK11-20260901T181500@CSHFREIBURG
SUMMARY:Summer Refresher A2 (26SK11) 
LOCATION:CSH, Kursraum 3, Eisenbahnstr. 62, 79098 Freiburg
END:VEVENT
BEGIN:VEVENT
DTSTAMP:20260425T034104
DTSTART;TZID=Europe/Berlin:20260903T181500
DTEND;TZID=Europe/Berlin:20260903T194500
UID:26SK11-20260903T181500@CSHFREIBURG
SUMMARY:Summer Refresher A2 (26SK11) 
LOCATION:CSH, Kursraum 3, Eisenbahnstr. 62, 79098 Freiburg
END:VEVENT
END:VCALENDAR