BEGIN:VCALENDAR
VERSION:2.0
PRODID:https://www.kufer.de/kuferweb / DE
METHOD:PUBLISH
CALSCALE:GREGORIAN
X-WR-TIMEZONE:Europe/Berlin
BEGIN:VTIMEZONE
TZID:Europe/Berlin
X-LIC-LOCATION:Europe/Berlin
BEGIN:DAYLIGHT
TZOFFSETFROM:+0100
TZOFFSETTO:+0200
TZNAME:CEST
DTSTART:19700329T020000
RRULE:FREQ=YEARLY;INTERVAL=1;BYDAY=-1SU;BYMONTH=3
END:DAYLIGHT
BEGIN:STANDARD
TZOFFSETFROM:+0200
TZOFFSETTO:+0100
TZNAME:CET
DTSTART:19701025T030000
RRULE:FREQ=YEARLY;INTERVAL=1;BYDAY=-1SU;BYMONTH=10
END:STANDARD
END:VTIMEZONE
BEGIN:VEVENT
DTSTAMP:20260425T033055
DTSTART;TZID=Europe/Berlin:20260302T151500
DTEND;TZID=Europe/Berlin:20260302T161500
UID:261TC910-20260302T151500@CSHFREIBURG
SUMMARY:Englisch für Schüler:innen der 10. Klasse 10 x 60 min. (261TC910) 
LOCATION:CSH, Kursraum 4, Eisenbahnstr. 62, 79098 Freiburg
END:VEVENT
BEGIN:VEVENT
DTSTAMP:20260425T033055
DTSTART;TZID=Europe/Berlin:20260309T151500
DTEND;TZID=Europe/Berlin:20260309T161500
UID:261TC910-20260309T151500@CSHFREIBURG
SUMMARY:Englisch für Schüler:innen der 10. Klasse 10 x 60 min. (261TC910) 
LOCATION:CSH, Kursraum 4, Eisenbahnstr. 62, 79098 Freiburg
END:VEVENT
BEGIN:VEVENT
DTSTAMP:20260425T033055
DTSTART;TZID=Europe/Berlin:20260316T151500
DTEND;TZID=Europe/Berlin:20260316T161500
UID:261TC910-20260316T151500@CSHFREIBURG
SUMMARY:Englisch für Schüler:innen der 10. Klasse 10 x 60 min. (261TC910) 
LOCATION:CSH, Kursraum 4, Eisenbahnstr. 62, 79098 Freiburg
END:VEVENT
BEGIN:VEVENT
DTSTAMP:20260425T033055
DTSTART;TZID=Europe/Berlin:20260323T151500
DTEND;TZID=Europe/Berlin:20260323T161500
UID:261TC910-20260323T151500@CSHFREIBURG
SUMMARY:Englisch für Schüler:innen der 10. Klasse 10 x 60 min. (261TC910) 
LOCATION:CSH, Kursraum 4, Eisenbahnstr. 62, 79098 Freiburg
END:VEVENT
BEGIN:VEVENT
DTSTAMP:20260425T033055
DTSTART;TZID=Europe/Berlin:20260413T151500
DTEND;TZID=Europe/Berlin:20260413T161500
UID:261TC910-20260413T151500@CSHFREIBURG
SUMMARY:Englisch für Schüler:innen der 10. Klasse 10 x 60 min. (261TC910) 
LOCATION:CSH, Kursraum 4, Eisenbahnstr. 62, 79098 Freiburg
END:VEVENT
BEGIN:VEVENT
DTSTAMP:20260425T033055
DTSTART;TZID=Europe/Berlin:20260420T151500
DTEND;TZID=Europe/Berlin:20260420T161500
UID:261TC910-20260420T151500@CSHFREIBURG
SUMMARY:Englisch für Schüler:innen der 10. Klasse 10 x 60 min. (261TC910) 
LOCATION:CSH, Kursraum 4, Eisenbahnstr. 62, 79098 Freiburg
END:VEVENT
BEGIN:VEVENT
DTSTAMP:20260425T033055
DTSTART;TZID=Europe/Berlin:20260427T151500
DTEND;TZID=Europe/Berlin:20260427T161500
UID:261TC910-20260427T151500@CSHFREIBURG
SUMMARY:Englisch für Schüler:innen der 10. Klasse 10 x 60 min. (261TC910) 
LOCATION:CSH, Kursraum 4, Eisenbahnstr. 62, 79098 Freiburg
END:VEVENT
BEGIN:VEVENT
DTSTAMP:20260425T033055
DTSTART;TZID=Europe/Berlin:20260504T151500
DTEND;TZID=Europe/Berlin:20260504T161500
UID:261TC910-20260504T151500@CSHFREIBURG
SUMMARY:Englisch für Schüler:innen der 10. Klasse 10 x 60 min. (261TC910) 
LOCATION:CSH, Kursraum 4, Eisenbahnstr. 62, 79098 Freiburg
END:VEVENT
BEGIN:VEVENT
DTSTAMP:20260425T033055
DTSTART;TZID=Europe/Berlin:20260511T151500
DTEND;TZID=Europe/Berlin:20260511T161500
UID:261TC910-20260511T151500@CSHFREIBURG
SUMMARY:Englisch für Schüler:innen der 10. Klasse 10 x 60 min. (261TC910) 
LOCATION:CSH, Kursraum 4, Eisenbahnstr. 62, 79098 Freiburg
END:VEVENT
BEGIN:VEVENT
DTSTAMP:20260425T033055
DTSTART;TZID=Europe/Berlin:20260518T151500
DTEND;TZID=Europe/Berlin:20260518T161500
UID:261TC910-20260518T151500@CSHFREIBURG
SUMMARY:Englisch für Schüler:innen der 10. Klasse 10 x 60 min. (261TC910) 
LOCATION:CSH, Kursraum 4, Eisenbahnstr. 62, 79098 Freiburg
END:VEVENT
END:VCALENDAR