BEGIN:VCALENDAR
VERSION:2.0
PRODID:https://www.kufer.de/kuferweb / DE
METHOD:PUBLISH
CALSCALE:GREGORIAN
X-WR-TIMEZONE:Europe/Berlin
BEGIN:VTIMEZONE
TZID:Europe/Berlin
X-LIC-LOCATION:Europe/Berlin
BEGIN:DAYLIGHT
TZOFFSETFROM:+0100
TZOFFSETTO:+0200
TZNAME:CEST
DTSTART:19700329T020000
RRULE:FREQ=YEARLY;INTERVAL=1;BYDAY=-1SU;BYMONTH=3
END:DAYLIGHT
BEGIN:STANDARD
TZOFFSETFROM:+0200
TZOFFSETTO:+0100
TZNAME:CET
DTSTART:19701025T030000
RRULE:FREQ=YEARLY;INTERVAL=1;BYDAY=-1SU;BYMONTH=10
END:STANDARD
END:VTIMEZONE
BEGIN:VEVENT
DTSTAMP:20260425T021933
DTSTART;TZID=Europe/Berlin:20260526T093000
DTEND;TZID=Europe/Berlin:20260526T124500
UID:261PS10-20260526T093000@CSHFREIBURG
SUMMARY:Pfingstferienkurse für Schüler:innen der 10. Klasse Gymnasium (261PS10) 
LOCATION:CSH, Kursraum 1, Eisenbahnstr. 62, 79098 Freiburg
END:VEVENT
BEGIN:VEVENT
DTSTAMP:20260425T021933
DTSTART;TZID=Europe/Berlin:20260527T093000
DTEND;TZID=Europe/Berlin:20260527T124500
UID:261PS10-20260527T093000@CSHFREIBURG
SUMMARY:Pfingstferienkurse für Schüler:innen der 10. Klasse Gymnasium (261PS10) 
LOCATION:CSH, Kursraum 1, Eisenbahnstr. 62, 79098 Freiburg
END:VEVENT
BEGIN:VEVENT
DTSTAMP:20260425T021933
DTSTART;TZID=Europe/Berlin:20260528T093000
DTEND;TZID=Europe/Berlin:20260528T124500
UID:261PS10-20260528T093000@CSHFREIBURG
SUMMARY:Pfingstferienkurse für Schüler:innen der 10. Klasse Gymnasium (261PS10) 
LOCATION:CSH, Kursraum 1, Eisenbahnstr. 62, 79098 Freiburg
END:VEVENT
BEGIN:VEVENT
DTSTAMP:20260425T021933
DTSTART;TZID=Europe/Berlin:20260529T093000
DTEND;TZID=Europe/Berlin:20260529T124500
UID:261PS10-20260529T093000@CSHFREIBURG
SUMMARY:Pfingstferienkurse für Schüler:innen der 10. Klasse Gymnasium (261PS10) 
LOCATION:CSH, Kursraum 1, Eisenbahnstr. 62, 79098 Freiburg
END:VEVENT
END:VCALENDAR