BEGIN:VCALENDAR
VERSION:2.0
PRODID:https://www.kufer.de/kuferweb / DE
METHOD:PUBLISH
CALSCALE:GREGORIAN
X-WR-TIMEZONE:Europe/Berlin
BEGIN:VTIMEZONE
TZID:Europe/Berlin
X-LIC-LOCATION:Europe/Berlin
BEGIN:DAYLIGHT
TZOFFSETFROM:+0100
TZOFFSETTO:+0200
TZNAME:CEST
DTSTART:19700329T020000
RRULE:FREQ=YEARLY;INTERVAL=1;BYDAY=-1SU;BYMONTH=3
END:DAYLIGHT
BEGIN:STANDARD
TZOFFSETFROM:+0200
TZOFFSETTO:+0100
TZNAME:CET
DTSTART:19701025T030000
RRULE:FREQ=YEARLY;INTERVAL=1;BYDAY=-1SU;BYMONTH=10
END:STANDARD
END:VTIMEZONE
BEGIN:VEVENT
DTSTAMP:20260425T034600
DTSTART;TZID=Europe/Berlin:20260414T094000
DTEND;TZID=Europe/Berlin:20260414T111000
UID:261KE209-20260414T094000@CSHFREIBURG
SUMMARY:Let it Flow B2-C2 (261KE209) 
LOCATION:CSH, Kursraum 6, Eisenbahnstr. 62, 79098 Freiburg
END:VEVENT
BEGIN:VEVENT
DTSTAMP:20260425T034600
DTSTART;TZID=Europe/Berlin:20260421T094000
DTEND;TZID=Europe/Berlin:20260421T111000
UID:261KE209-20260421T094000@CSHFREIBURG
SUMMARY:Let it Flow B2-C2 (261KE209) 
LOCATION:CSH, Kursraum 6, Eisenbahnstr. 62, 79098 Freiburg
END:VEVENT
BEGIN:VEVENT
DTSTAMP:20260425T034600
DTSTART;TZID=Europe/Berlin:20260428T094000
DTEND;TZID=Europe/Berlin:20260428T111000
UID:261KE209-20260428T094000@CSHFREIBURG
SUMMARY:Let it Flow B2-C2 (261KE209) 
LOCATION:CSH, Kursraum 6, Eisenbahnstr. 62, 79098 Freiburg
END:VEVENT
BEGIN:VEVENT
DTSTAMP:20260425T034600
DTSTART;TZID=Europe/Berlin:20260505T094000
DTEND;TZID=Europe/Berlin:20260505T111000
UID:261KE209-20260505T094000@CSHFREIBURG
SUMMARY:Let it Flow B2-C2 (261KE209) 
LOCATION:CSH, Kursraum 6, Eisenbahnstr. 62, 79098 Freiburg
END:VEVENT
BEGIN:VEVENT
DTSTAMP:20260425T034600
DTSTART;TZID=Europe/Berlin:20260512T094000
DTEND;TZID=Europe/Berlin:20260512T111000
UID:261KE209-20260512T094000@CSHFREIBURG
SUMMARY:Let it Flow B2-C2 (261KE209) 
LOCATION:CSH, Kursraum 6, Eisenbahnstr. 62, 79098 Freiburg
END:VEVENT
BEGIN:VEVENT
DTSTAMP:20260425T034600
DTSTART;TZID=Europe/Berlin:20260519T094000
DTEND;TZID=Europe/Berlin:20260519T111000
UID:261KE209-20260519T094000@CSHFREIBURG
SUMMARY:Let it Flow B2-C2 (261KE209) 
LOCATION:CSH, Kursraum 6, Eisenbahnstr. 62, 79098 Freiburg
END:VEVENT
BEGIN:VEVENT
DTSTAMP:20260425T034600
DTSTART;TZID=Europe/Berlin:20260609T094000
DTEND;TZID=Europe/Berlin:20260609T111000
UID:261KE209-20260609T094000@CSHFREIBURG
SUMMARY:Let it Flow B2-C2 (261KE209) 
LOCATION:CSH, Kursraum 6, Eisenbahnstr. 62, 79098 Freiburg
END:VEVENT
BEGIN:VEVENT
DTSTAMP:20260425T034600
DTSTART;TZID=Europe/Berlin:20260616T094000
DTEND;TZID=Europe/Berlin:20260616T111000
UID:261KE209-20260616T094000@CSHFREIBURG
SUMMARY:Let it Flow B2-C2 (261KE209) 
LOCATION:CSH, Kursraum 6, Eisenbahnstr. 62, 79098 Freiburg
END:VEVENT
BEGIN:VEVENT
DTSTAMP:20260425T034600
DTSTART;TZID=Europe/Berlin:20260623T094000
DTEND;TZID=Europe/Berlin:20260623T111000
UID:261KE209-20260623T094000@CSHFREIBURG
SUMMARY:Let it Flow B2-C2 (261KE209) 
LOCATION:CSH, Kursraum 6, Eisenbahnstr. 62, 79098 Freiburg
END:VEVENT
BEGIN:VEVENT
DTSTAMP:20260425T034600
DTSTART;TZID=Europe/Berlin:20260630T094000
DTEND;TZID=Europe/Berlin:20260630T111000
UID:261KE209-20260630T094000@CSHFREIBURG
SUMMARY:Let it Flow B2-C2 (261KE209) 
LOCATION:CSH, Kursraum 6, Eisenbahnstr. 62, 79098 Freiburg
END:VEVENT
END:VCALENDAR