BEGIN:VCALENDAR
VERSION:2.0
PRODID:https://www.kufer.de/kuferweb / DE
METHOD:PUBLISH
CALSCALE:GREGORIAN
X-WR-TIMEZONE:Europe/Berlin
BEGIN:VTIMEZONE
TZID:Europe/Berlin
X-LIC-LOCATION:Europe/Berlin
BEGIN:DAYLIGHT
TZOFFSETFROM:+0100
TZOFFSETTO:+0200
TZNAME:CEST
DTSTART:19700329T020000
RRULE:FREQ=YEARLY;INTERVAL=1;BYDAY=-1SU;BYMONTH=3
END:DAYLIGHT
BEGIN:STANDARD
TZOFFSETFROM:+0200
TZOFFSETTO:+0100
TZNAME:CET
DTSTART:19701025T030000
RRULE:FREQ=YEARLY;INTERVAL=1;BYDAY=-1SU;BYMONTH=10
END:STANDARD
END:VTIMEZONE
BEGIN:VEVENT
DTSTAMP:20260425T021945
DTSTART;TZID=Europe/Berlin:20260609T200000
DTEND;TZID=Europe/Berlin:20260609T210000
UID:261KE143-20260609T200000@CSHFREIBURG
SUMMARY:Kurz, Klein & Fein A2 (261KE143) 
LOCATION:CSH, Kursraum 4, Eisenbahnstr. 62, 79098 Freiburg
END:VEVENT
BEGIN:VEVENT
DTSTAMP:20260425T021945
DTSTART;TZID=Europe/Berlin:20260611T200000
DTEND;TZID=Europe/Berlin:20260611T210000
UID:261KE143-20260611T200000@CSHFREIBURG
SUMMARY:Kurz, Klein & Fein A2 (261KE143) 
LOCATION:CSH, Kursraum 4, Eisenbahnstr. 62, 79098 Freiburg
END:VEVENT
BEGIN:VEVENT
DTSTAMP:20260425T021945
DTSTART;TZID=Europe/Berlin:20260616T200000
DTEND;TZID=Europe/Berlin:20260616T210000
UID:261KE143-20260616T200000@CSHFREIBURG
SUMMARY:Kurz, Klein & Fein A2 (261KE143) 
LOCATION:CSH, Kursraum 4, Eisenbahnstr. 62, 79098 Freiburg
END:VEVENT
BEGIN:VEVENT
DTSTAMP:20260425T021945
DTSTART;TZID=Europe/Berlin:20260618T200000
DTEND;TZID=Europe/Berlin:20260618T210000
UID:261KE143-20260618T200000@CSHFREIBURG
SUMMARY:Kurz, Klein & Fein A2 (261KE143) 
LOCATION:CSH, Kursraum 4, Eisenbahnstr. 62, 79098 Freiburg
END:VEVENT
BEGIN:VEVENT
DTSTAMP:20260425T021945
DTSTART;TZID=Europe/Berlin:20260623T200000
DTEND;TZID=Europe/Berlin:20260623T210000
UID:261KE143-20260623T200000@CSHFREIBURG
SUMMARY:Kurz, Klein & Fein A2 (261KE143) 
LOCATION:CSH, Kursraum 4, Eisenbahnstr. 62, 79098 Freiburg
END:VEVENT
BEGIN:VEVENT
DTSTAMP:20260425T021945
DTSTART;TZID=Europe/Berlin:20260625T200000
DTEND;TZID=Europe/Berlin:20260625T210000
UID:261KE143-20260625T200000@CSHFREIBURG
SUMMARY:Kurz, Klein & Fein A2 (261KE143) 
LOCATION:CSH, Kursraum 4, Eisenbahnstr. 62, 79098 Freiburg
END:VEVENT
BEGIN:VEVENT
DTSTAMP:20260425T021945
DTSTART;TZID=Europe/Berlin:20260630T200000
DTEND;TZID=Europe/Berlin:20260630T210000
UID:261KE143-20260630T200000@CSHFREIBURG
SUMMARY:Kurz, Klein & Fein A2 (261KE143) 
LOCATION:CSH, Kursraum 4, Eisenbahnstr. 62, 79098 Freiburg
END:VEVENT
BEGIN:VEVENT
DTSTAMP:20260425T021945
DTSTART;TZID=Europe/Berlin:20260702T200000
DTEND;TZID=Europe/Berlin:20260702T210000
UID:261KE143-20260702T200000@CSHFREIBURG
SUMMARY:Kurz, Klein & Fein A2 (261KE143) 
LOCATION:CSH, Kursraum 4, Eisenbahnstr. 62, 79098 Freiburg
END:VEVENT
BEGIN:VEVENT
DTSTAMP:20260425T021945
DTSTART;TZID=Europe/Berlin:20260707T200000
DTEND;TZID=Europe/Berlin:20260707T210000
UID:261KE143-20260707T200000@CSHFREIBURG
SUMMARY:Kurz, Klein & Fein A2 (261KE143) 
LOCATION:CSH, Kursraum 4, Eisenbahnstr. 62, 79098 Freiburg
END:VEVENT
BEGIN:VEVENT
DTSTAMP:20260425T021945
DTSTART;TZID=Europe/Berlin:20260709T200000
DTEND;TZID=Europe/Berlin:20260709T210000
UID:261KE143-20260709T200000@CSHFREIBURG
SUMMARY:Kurz, Klein & Fein A2 (261KE143) 
LOCATION:CSH, Kursraum 4, Eisenbahnstr. 62, 79098 Freiburg
END:VEVENT
END:VCALENDAR