BEGIN:VCALENDAR
VERSION:2.0
PRODID:https://www.kufer.de/kuferweb / DE
METHOD:PUBLISH
CALSCALE:GREGORIAN
X-WR-TIMEZONE:Europe/Berlin
BEGIN:VTIMEZONE
TZID:Europe/Berlin
X-LIC-LOCATION:Europe/Berlin
BEGIN:DAYLIGHT
TZOFFSETFROM:+0100
TZOFFSETTO:+0200
TZNAME:CEST
DTSTART:19700329T020000
RRULE:FREQ=YEARLY;INTERVAL=1;BYDAY=-1SU;BYMONTH=3
END:DAYLIGHT
BEGIN:STANDARD
TZOFFSETFROM:+0200
TZOFFSETTO:+0100
TZNAME:CET
DTSTART:19701025T030000
RRULE:FREQ=YEARLY;INTERVAL=1;BYDAY=-1SU;BYMONTH=10
END:STANDARD
END:VTIMEZONE
BEGIN:VEVENT
DTSTAMP:20260425T034642
DTSTART;TZID=Europe/Berlin:20260416T180000
DTEND;TZID=Europe/Berlin:20260416T193000
UID:261KE125-20260416T180000@CSHFREIBURG
SUMMARY:More Than Words B2 (261KE125) 
LOCATION:CSH, Kursraum 3, Eisenbahnstr. 62, 79098 Freiburg
END:VEVENT
BEGIN:VEVENT
DTSTAMP:20260425T034642
DTSTART;TZID=Europe/Berlin:20260423T180000
DTEND;TZID=Europe/Berlin:20260423T193000
UID:261KE125-20260423T180000@CSHFREIBURG
SUMMARY:More Than Words B2 (261KE125) 
LOCATION:CSH, Kursraum 3, Eisenbahnstr. 62, 79098 Freiburg
END:VEVENT
BEGIN:VEVENT
DTSTAMP:20260425T034642
DTSTART;TZID=Europe/Berlin:20260430T180000
DTEND;TZID=Europe/Berlin:20260430T193000
UID:261KE125-20260430T180000@CSHFREIBURG
SUMMARY:More Than Words B2 (261KE125) 
LOCATION:CSH, Kursraum 3, Eisenbahnstr. 62, 79098 Freiburg
END:VEVENT
BEGIN:VEVENT
DTSTAMP:20260425T034642
DTSTART;TZID=Europe/Berlin:20260507T180000
DTEND;TZID=Europe/Berlin:20260507T193000
UID:261KE125-20260507T180000@CSHFREIBURG
SUMMARY:More Than Words B2 (261KE125) 
LOCATION:CSH, Kursraum 3, Eisenbahnstr. 62, 79098 Freiburg
END:VEVENT
BEGIN:VEVENT
DTSTAMP:20260425T034642
DTSTART;TZID=Europe/Berlin:20260521T180000
DTEND;TZID=Europe/Berlin:20260521T193000
UID:261KE125-20260521T180000@CSHFREIBURG
SUMMARY:More Than Words B2 (261KE125) 
LOCATION:CSH, Kursraum 3, Eisenbahnstr. 62, 79098 Freiburg
END:VEVENT
BEGIN:VEVENT
DTSTAMP:20260425T034642
DTSTART;TZID=Europe/Berlin:20260611T180000
DTEND;TZID=Europe/Berlin:20260611T193000
UID:261KE125-20260611T180000@CSHFREIBURG
SUMMARY:More Than Words B2 (261KE125) 
LOCATION:CSH, Kursraum 3, Eisenbahnstr. 62, 79098 Freiburg
END:VEVENT
BEGIN:VEVENT
DTSTAMP:20260425T034642
DTSTART;TZID=Europe/Berlin:20260618T180000
DTEND;TZID=Europe/Berlin:20260618T193000
UID:261KE125-20260618T180000@CSHFREIBURG
SUMMARY:More Than Words B2 (261KE125) 
LOCATION:CSH, Kursraum 3, Eisenbahnstr. 62, 79098 Freiburg
END:VEVENT
BEGIN:VEVENT
DTSTAMP:20260425T034642
DTSTART;TZID=Europe/Berlin:20260625T180000
DTEND;TZID=Europe/Berlin:20260625T193000
UID:261KE125-20260625T180000@CSHFREIBURG
SUMMARY:More Than Words B2 (261KE125) 
LOCATION:CSH, Kursraum 3, Eisenbahnstr. 62, 79098 Freiburg
END:VEVENT
BEGIN:VEVENT
DTSTAMP:20260425T034642
DTSTART;TZID=Europe/Berlin:20260702T180000
DTEND;TZID=Europe/Berlin:20260702T193000
UID:261KE125-20260702T180000@CSHFREIBURG
SUMMARY:More Than Words B2 (261KE125) 
LOCATION:CSH, Kursraum 3, Eisenbahnstr. 62, 79098 Freiburg
END:VEVENT
BEGIN:VEVENT
DTSTAMP:20260425T034642
DTSTART;TZID=Europe/Berlin:20260709T180000
DTEND;TZID=Europe/Berlin:20260709T193000
UID:261KE125-20260709T180000@CSHFREIBURG
SUMMARY:More Than Words B2 (261KE125) 
LOCATION:CSH, Kursraum 3, Eisenbahnstr. 62, 79098 Freiburg
END:VEVENT
END:VCALENDAR