BEGIN:VCALENDAR
VERSION:2.0
PRODID:https://www.kufer.de/kuferweb / DE
METHOD:PUBLISH
CALSCALE:GREGORIAN
X-WR-TIMEZONE:Europe/Berlin
BEGIN:VTIMEZONE
TZID:Europe/Berlin
X-LIC-LOCATION:Europe/Berlin
BEGIN:DAYLIGHT
TZOFFSETFROM:+0100
TZOFFSETTO:+0200
TZNAME:CEST
DTSTART:19700329T020000
RRULE:FREQ=YEARLY;INTERVAL=1;BYDAY=-1SU;BYMONTH=3
END:DAYLIGHT
BEGIN:STANDARD
TZOFFSETFROM:+0200
TZOFFSETTO:+0100
TZNAME:CET
DTSTART:19701025T030000
RRULE:FREQ=YEARLY;INTERVAL=1;BYDAY=-1SU;BYMONTH=10
END:STANDARD
END:VTIMEZONE
BEGIN:VEVENT
DTSTAMP:20260425T034558
DTSTART;TZID=Europe/Berlin:20260525T194500
DTEND;TZID=Europe/Berlin:20260525T204500
UID:261KE117-20260525T194500@CSHFREIBURG
SUMMARY:Osterferien Intensivabendkurs ab B2+ (261KE117) 
LOCATION:CSH, Kursraum 4, Eisenbahnstr. 62, 79098 Freiburg
END:VEVENT
BEGIN:VEVENT
DTSTAMP:20260425T034558
DTSTART;TZID=Europe/Berlin:20260526T194500
DTEND;TZID=Europe/Berlin:20260526T204500
UID:261KE117-20260526T194500@CSHFREIBURG
SUMMARY:Osterferien Intensivabendkurs ab B2+ (261KE117) 
LOCATION:CSH, Kursraum 4, Eisenbahnstr. 62, 79098 Freiburg
END:VEVENT
BEGIN:VEVENT
DTSTAMP:20260425T034558
DTSTART;TZID=Europe/Berlin:20260527T194500
DTEND;TZID=Europe/Berlin:20260527T204500
UID:261KE117-20260527T194500@CSHFREIBURG
SUMMARY:Osterferien Intensivabendkurs ab B2+ (261KE117) 
LOCATION:CSH, Kursraum 4, Eisenbahnstr. 62, 79098 Freiburg
END:VEVENT
BEGIN:VEVENT
DTSTAMP:20260425T034558
DTSTART;TZID=Europe/Berlin:20260528T194500
DTEND;TZID=Europe/Berlin:20260528T204500
UID:261KE117-20260528T194500@CSHFREIBURG
SUMMARY:Osterferien Intensivabendkurs ab B2+ (261KE117) 
LOCATION:CSH, Kursraum 4, Eisenbahnstr. 62, 79098 Freiburg
END:VEVENT
BEGIN:VEVENT
DTSTAMP:20260425T034558
DTSTART;TZID=Europe/Berlin:20260601T194500
DTEND;TZID=Europe/Berlin:20260601T204500
UID:261KE117-20260601T194500@CSHFREIBURG
SUMMARY:Osterferien Intensivabendkurs ab B2+ (261KE117) 
LOCATION:CSH, Kursraum 4, Eisenbahnstr. 62, 79098 Freiburg
END:VEVENT
BEGIN:VEVENT
DTSTAMP:20260425T034558
DTSTART;TZID=Europe/Berlin:20260602T194500
DTEND;TZID=Europe/Berlin:20260602T204500
UID:261KE117-20260602T194500@CSHFREIBURG
SUMMARY:Osterferien Intensivabendkurs ab B2+ (261KE117) 
LOCATION:CSH, Kursraum 4, Eisenbahnstr. 62, 79098 Freiburg
END:VEVENT
BEGIN:VEVENT
DTSTAMP:20260425T034558
DTSTART;TZID=Europe/Berlin:20260603T194500
DTEND;TZID=Europe/Berlin:20260603T204500
UID:261KE117-20260603T194500@CSHFREIBURG
SUMMARY:Osterferien Intensivabendkurs ab B2+ (261KE117) 
LOCATION:CSH, Kursraum 4, Eisenbahnstr. 62, 79098 Freiburg
END:VEVENT
BEGIN:VEVENT
DTSTAMP:20260425T034558
DTSTART;TZID=Europe/Berlin:20260605T194500
DTEND;TZID=Europe/Berlin:20260605T204500
UID:261KE117-20260605T194500@CSHFREIBURG
SUMMARY:Osterferien Intensivabendkurs ab B2+ (261KE117) 
LOCATION:CSH, Kursraum 4, Eisenbahnstr. 62, 79098 Freiburg
END:VEVENT
END:VCALENDAR