BEGIN:VCALENDAR
VERSION:2.0
PRODID:https://www.kufer.de/kuferweb / DE
METHOD:PUBLISH
CALSCALE:GREGORIAN
X-WR-TIMEZONE:Europe/Berlin
BEGIN:VTIMEZONE
TZID:Europe/Berlin
X-LIC-LOCATION:Europe/Berlin
BEGIN:DAYLIGHT
TZOFFSETFROM:+0100
TZOFFSETTO:+0200
TZNAME:CEST
DTSTART:19700329T020000
RRULE:FREQ=YEARLY;INTERVAL=1;BYDAY=-1SU;BYMONTH=3
END:DAYLIGHT
BEGIN:STANDARD
TZOFFSETFROM:+0200
TZOFFSETTO:+0100
TZNAME:CET
DTSTART:19701025T030000
RRULE:FREQ=YEARLY;INTERVAL=1;BYDAY=-1SU;BYMONTH=10
END:STANDARD
END:VTIMEZONE
BEGIN:VEVENT
DTSTAMP:20260425T034643
DTSTART;TZID=Europe/Berlin:20260526T183000
DTEND;TZID=Europe/Berlin:20260526T193000
UID:261KE115-20260526T183000@CSHFREIBURG
SUMMARY:Pfingstferien Intensivabendkurs A2 (261KE115) 
LOCATION:CSH, Kursraum 4, Eisenbahnstr. 62, 79098 Freiburg
END:VEVENT
BEGIN:VEVENT
DTSTAMP:20260425T034643
DTSTART;TZID=Europe/Berlin:20260527T183000
DTEND;TZID=Europe/Berlin:20260527T193000
UID:261KE115-20260527T183000@CSHFREIBURG
SUMMARY:Pfingstferien Intensivabendkurs A2 (261KE115) 
LOCATION:CSH, Kursraum 4, Eisenbahnstr. 62, 79098 Freiburg
END:VEVENT
BEGIN:VEVENT
DTSTAMP:20260425T034643
DTSTART;TZID=Europe/Berlin:20260528T183000
DTEND;TZID=Europe/Berlin:20260528T193000
UID:261KE115-20260528T183000@CSHFREIBURG
SUMMARY:Pfingstferien Intensivabendkurs A2 (261KE115) 
LOCATION:CSH, Kursraum 4, Eisenbahnstr. 62, 79098 Freiburg
END:VEVENT
BEGIN:VEVENT
DTSTAMP:20260425T034643
DTSTART;TZID=Europe/Berlin:20260529T183000
DTEND;TZID=Europe/Berlin:20260529T193000
UID:261KE115-20260529T183000@CSHFREIBURG
SUMMARY:Pfingstferien Intensivabendkurs A2 (261KE115) 
LOCATION:CSH, Kursraum 4, Eisenbahnstr. 62, 79098 Freiburg
END:VEVENT
BEGIN:VEVENT
DTSTAMP:20260425T034643
DTSTART;TZID=Europe/Berlin:20260601T183000
DTEND;TZID=Europe/Berlin:20260601T193000
UID:261KE115-20260601T183000@CSHFREIBURG
SUMMARY:Pfingstferien Intensivabendkurs A2 (261KE115) 
LOCATION:CSH, Kursraum 4, Eisenbahnstr. 62, 79098 Freiburg
END:VEVENT
BEGIN:VEVENT
DTSTAMP:20260425T034643
DTSTART;TZID=Europe/Berlin:20260602T183000
DTEND;TZID=Europe/Berlin:20260602T193000
UID:261KE115-20260602T183000@CSHFREIBURG
SUMMARY:Pfingstferien Intensivabendkurs A2 (261KE115) 
LOCATION:CSH, Kursraum 4, Eisenbahnstr. 62, 79098 Freiburg
END:VEVENT
BEGIN:VEVENT
DTSTAMP:20260425T034643
DTSTART;TZID=Europe/Berlin:20260603T183000
DTEND;TZID=Europe/Berlin:20260603T193000
UID:261KE115-20260603T183000@CSHFREIBURG
SUMMARY:Pfingstferien Intensivabendkurs A2 (261KE115) 
LOCATION:CSH, Kursraum 4, Eisenbahnstr. 62, 79098 Freiburg
END:VEVENT
BEGIN:VEVENT
DTSTAMP:20260425T034643
DTSTART;TZID=Europe/Berlin:20260605T183000
DTEND;TZID=Europe/Berlin:20260605T193000
UID:261KE115-20260605T183000@CSHFREIBURG
SUMMARY:Pfingstferien Intensivabendkurs A2 (261KE115) 
LOCATION:CSH, Kursraum 4, Eisenbahnstr. 62, 79098 Freiburg
END:VEVENT
END:VCALENDAR