BEGIN:VCALENDAR
VERSION:2.0
PRODID:https://www.kufer.de/kuferweb / DE
METHOD:PUBLISH
CALSCALE:GREGORIAN
X-WR-TIMEZONE:Europe/Berlin
BEGIN:VTIMEZONE
TZID:Europe/Berlin
X-LIC-LOCATION:Europe/Berlin
BEGIN:DAYLIGHT
TZOFFSETFROM:+0100
TZOFFSETTO:+0200
TZNAME:CEST
DTSTART:19700329T020000
RRULE:FREQ=YEARLY;INTERVAL=1;BYDAY=-1SU;BYMONTH=3
END:DAYLIGHT
BEGIN:STANDARD
TZOFFSETFROM:+0200
TZOFFSETTO:+0100
TZNAME:CET
DTSTART:19701025T030000
RRULE:FREQ=YEARLY;INTERVAL=1;BYDAY=-1SU;BYMONTH=10
END:STANDARD
END:VTIMEZONE
BEGIN:VEVENT
DTSTAMP:20260424T230638
DTSTART;TZID=Europe/Berlin:20260430T181500
DTEND;TZID=Europe/Berlin:20260430T194500
UID:261KE110-20260430T181500@CSHFREIBURG
SUMMARY:Headway A2 (261KE110) 
LOCATION:CSH, Kursraum 4, Eisenbahnstr. 62, 79098 Freiburg
END:VEVENT
BEGIN:VEVENT
DTSTAMP:20260424T230638
DTSTART;TZID=Europe/Berlin:20260507T181500
DTEND;TZID=Europe/Berlin:20260507T194500
UID:261KE110-20260507T181500@CSHFREIBURG
SUMMARY:Headway A2 (261KE110) 
LOCATION:CSH, Kursraum 4, Eisenbahnstr. 62, 79098 Freiburg
END:VEVENT
BEGIN:VEVENT
DTSTAMP:20260424T230638
DTSTART;TZID=Europe/Berlin:20260521T181500
DTEND;TZID=Europe/Berlin:20260521T194500
UID:261KE110-20260521T181500@CSHFREIBURG
SUMMARY:Headway A2 (261KE110) 
LOCATION:CSH, Kursraum 4, Eisenbahnstr. 62, 79098 Freiburg
END:VEVENT
BEGIN:VEVENT
DTSTAMP:20260424T230638
DTSTART;TZID=Europe/Berlin:20260618T181500
DTEND;TZID=Europe/Berlin:20260618T194500
UID:261KE110-20260618T181500@CSHFREIBURG
SUMMARY:Headway A2 (261KE110) 
LOCATION:CSH, Kursraum 4, Eisenbahnstr. 62, 79098 Freiburg
END:VEVENT
BEGIN:VEVENT
DTSTAMP:20260424T230638
DTSTART;TZID=Europe/Berlin:20260625T181500
DTEND;TZID=Europe/Berlin:20260625T194500
UID:261KE110-20260625T181500@CSHFREIBURG
SUMMARY:Headway A2 (261KE110) 
LOCATION:CSH, Kursraum 4, Eisenbahnstr. 62, 79098 Freiburg
END:VEVENT
BEGIN:VEVENT
DTSTAMP:20260424T230638
DTSTART;TZID=Europe/Berlin:20260702T181500
DTEND;TZID=Europe/Berlin:20260702T194500
UID:261KE110-20260702T181500@CSHFREIBURG
SUMMARY:Headway A2 (261KE110) 
LOCATION:CSH, Kursraum 4, Eisenbahnstr. 62, 79098 Freiburg
END:VEVENT
BEGIN:VEVENT
DTSTAMP:20260424T230638
DTSTART;TZID=Europe/Berlin:20260709T181500
DTEND;TZID=Europe/Berlin:20260709T194500
UID:261KE110-20260709T181500@CSHFREIBURG
SUMMARY:Headway A2 (261KE110) 
LOCATION:CSH, Kursraum 4, Eisenbahnstr. 62, 79098 Freiburg
END:VEVENT
BEGIN:VEVENT
DTSTAMP:20260424T230638
DTSTART;TZID=Europe/Berlin:20260716T181500
DTEND;TZID=Europe/Berlin:20260716T194500
UID:261KE110-20260716T181500@CSHFREIBURG
SUMMARY:Headway A2 (261KE110) 
LOCATION:CSH, Kursraum 4, Eisenbahnstr. 62, 79098 Freiburg
END:VEVENT
END:VCALENDAR