BEGIN:VCALENDAR
VERSION:2.0
PRODID:https://www.kufer.de/kuferweb / DE
METHOD:PUBLISH
CALSCALE:GREGORIAN
X-WR-TIMEZONE:Europe/Berlin
BEGIN:VTIMEZONE
TZID:Europe/Berlin
X-LIC-LOCATION:Europe/Berlin
BEGIN:DAYLIGHT
TZOFFSETFROM:+0100
TZOFFSETTO:+0200
TZNAME:CEST
DTSTART:19700329T020000
RRULE:FREQ=YEARLY;INTERVAL=1;BYDAY=-1SU;BYMONTH=3
END:DAYLIGHT
BEGIN:STANDARD
TZOFFSETFROM:+0200
TZOFFSETTO:+0100
TZNAME:CET
DTSTART:19701025T030000
RRULE:FREQ=YEARLY;INTERVAL=1;BYDAY=-1SU;BYMONTH=10
END:STANDARD
END:VTIMEZONE
BEGIN:VEVENT
DTSTAMP:20260425T033105
DTSTART;TZID=Europe/Berlin:20260415T181500
DTEND;TZID=Europe/Berlin:20260415T194500
UID:261KE103-20260415T181500@CSHFREIBURG
SUMMARY:Headway B1 (261KE103) 
LOCATION:CSH, Kursraum 5, Eisenbahnstr. 62, 79098 Freiburg
END:VEVENT
BEGIN:VEVENT
DTSTAMP:20260425T033105
DTSTART;TZID=Europe/Berlin:20260422T181500
DTEND;TZID=Europe/Berlin:20260422T194500
UID:261KE103-20260422T181500@CSHFREIBURG
SUMMARY:Headway B1 (261KE103) 
LOCATION:CSH, Kursraum 5, Eisenbahnstr. 62, 79098 Freiburg
END:VEVENT
BEGIN:VEVENT
DTSTAMP:20260425T033105
DTSTART;TZID=Europe/Berlin:20260429T181500
DTEND;TZID=Europe/Berlin:20260429T194500
UID:261KE103-20260429T181500@CSHFREIBURG
SUMMARY:Headway B1 (261KE103) 
LOCATION:CSH, Kursraum 5, Eisenbahnstr. 62, 79098 Freiburg
END:VEVENT
BEGIN:VEVENT
DTSTAMP:20260425T033105
DTSTART;TZID=Europe/Berlin:20260506T181500
DTEND;TZID=Europe/Berlin:20260506T194500
UID:261KE103-20260506T181500@CSHFREIBURG
SUMMARY:Headway B1 (261KE103) 
LOCATION:CSH, Kursraum 5, Eisenbahnstr. 62, 79098 Freiburg
END:VEVENT
BEGIN:VEVENT
DTSTAMP:20260425T033105
DTSTART;TZID=Europe/Berlin:20260513T181500
DTEND;TZID=Europe/Berlin:20260513T194500
UID:261KE103-20260513T181500@CSHFREIBURG
SUMMARY:Headway B1 (261KE103) 
LOCATION:CSH, Kursraum 5, Eisenbahnstr. 62, 79098 Freiburg
END:VEVENT
BEGIN:VEVENT
DTSTAMP:20260425T033105
DTSTART;TZID=Europe/Berlin:20260520T181500
DTEND;TZID=Europe/Berlin:20260520T194500
UID:261KE103-20260520T181500@CSHFREIBURG
SUMMARY:Headway B1 (261KE103) 
LOCATION:CSH, Kursraum 5, Eisenbahnstr. 62, 79098 Freiburg
END:VEVENT
BEGIN:VEVENT
DTSTAMP:20260425T033105
DTSTART;TZID=Europe/Berlin:20260610T181500
DTEND;TZID=Europe/Berlin:20260610T194500
UID:261KE103-20260610T181500@CSHFREIBURG
SUMMARY:Headway B1 (261KE103) 
LOCATION:CSH, Kursraum 5, Eisenbahnstr. 62, 79098 Freiburg
END:VEVENT
BEGIN:VEVENT
DTSTAMP:20260425T033105
DTSTART;TZID=Europe/Berlin:20260617T181500
DTEND;TZID=Europe/Berlin:20260617T194500
UID:261KE103-20260617T181500@CSHFREIBURG
SUMMARY:Headway B1 (261KE103) 
LOCATION:CSH, Kursraum 5, Eisenbahnstr. 62, 79098 Freiburg
END:VEVENT
BEGIN:VEVENT
DTSTAMP:20260425T033105
DTSTART;TZID=Europe/Berlin:20260624T181500
DTEND;TZID=Europe/Berlin:20260624T194500
UID:261KE103-20260624T181500@CSHFREIBURG
SUMMARY:Headway B1 (261KE103) 
LOCATION:CSH, Kursraum 5, Eisenbahnstr. 62, 79098 Freiburg
END:VEVENT
BEGIN:VEVENT
DTSTAMP:20260425T033105
DTSTART;TZID=Europe/Berlin:20260701T181500
DTEND;TZID=Europe/Berlin:20260701T194500
UID:261KE103-20260701T181500@CSHFREIBURG
SUMMARY:Headway B1 (261KE103) 
LOCATION:CSH, Kursraum 5, Eisenbahnstr. 62, 79098 Freiburg
END:VEVENT
END:VCALENDAR