BEGIN:VCALENDAR
VERSION:2.0
PRODID:https://www.kufer.de/kuferweb / DE
METHOD:PUBLISH
CALSCALE:GREGORIAN
X-WR-TIMEZONE:Europe/Berlin
BEGIN:VTIMEZONE
TZID:Europe/Berlin
X-LIC-LOCATION:Europe/Berlin
BEGIN:DAYLIGHT
TZOFFSETFROM:+0100
TZOFFSETTO:+0200
TZNAME:CEST
DTSTART:19700329T020000
RRULE:FREQ=YEARLY;INTERVAL=1;BYDAY=-1SU;BYMONTH=3
END:DAYLIGHT
BEGIN:STANDARD
TZOFFSETFROM:+0200
TZOFFSETTO:+0100
TZNAME:CET
DTSTART:19701025T030000
RRULE:FREQ=YEARLY;INTERVAL=1;BYDAY=-1SU;BYMONTH=10
END:STANDARD
END:VTIMEZONE
BEGIN:VEVENT
DTSTAMP:20260425T021942
DTSTART;TZID=Europe/Berlin:20260227T170000
DTEND;TZID=Europe/Berlin:20260227T180000
UID:261KC811-20260227T170000@CSHFREIBURG
SUMMARY:English for Young Learners, leicht Fortgeschrittene, ab 8 Jahren 15 x 60 min. (261KC811) 
LOCATION:CSH, Kursraum 5, Eisenbahnstr. 62, 79098 Freiburg
END:VEVENT
BEGIN:VEVENT
DTSTAMP:20260425T021942
DTSTART;TZID=Europe/Berlin:20260306T170000
DTEND;TZID=Europe/Berlin:20260306T180000
UID:261KC811-20260306T170000@CSHFREIBURG
SUMMARY:English for Young Learners, leicht Fortgeschrittene, ab 8 Jahren 15 x 60 min. (261KC811) 
LOCATION:CSH, Kursraum 5, Eisenbahnstr. 62, 79098 Freiburg
END:VEVENT
BEGIN:VEVENT
DTSTAMP:20260425T021942
DTSTART;TZID=Europe/Berlin:20260313T170000
DTEND;TZID=Europe/Berlin:20260313T180000
UID:261KC811-20260313T170000@CSHFREIBURG
SUMMARY:English for Young Learners, leicht Fortgeschrittene, ab 8 Jahren 15 x 60 min. (261KC811) 
LOCATION:CSH, Kursraum 5, Eisenbahnstr. 62, 79098 Freiburg
END:VEVENT
BEGIN:VEVENT
DTSTAMP:20260425T021942
DTSTART;TZID=Europe/Berlin:20260320T170000
DTEND;TZID=Europe/Berlin:20260320T180000
UID:261KC811-20260320T170000@CSHFREIBURG
SUMMARY:English for Young Learners, leicht Fortgeschrittene, ab 8 Jahren 15 x 60 min. (261KC811) 
LOCATION:CSH, Kursraum 5, Eisenbahnstr. 62, 79098 Freiburg
END:VEVENT
BEGIN:VEVENT
DTSTAMP:20260425T021942
DTSTART;TZID=Europe/Berlin:20260327T170000
DTEND;TZID=Europe/Berlin:20260327T180000
UID:261KC811-20260327T170000@CSHFREIBURG
SUMMARY:English for Young Learners, leicht Fortgeschrittene, ab 8 Jahren 15 x 60 min. (261KC811) 
LOCATION:CSH, Kursraum 5, Eisenbahnstr. 62, 79098 Freiburg
END:VEVENT
BEGIN:VEVENT
DTSTAMP:20260425T021942
DTSTART;TZID=Europe/Berlin:20260417T170000
DTEND;TZID=Europe/Berlin:20260417T180000
UID:261KC811-20260417T170000@CSHFREIBURG
SUMMARY:English for Young Learners, leicht Fortgeschrittene, ab 8 Jahren 15 x 60 min. (261KC811) 
LOCATION:CSH, Kursraum 5, Eisenbahnstr. 62, 79098 Freiburg
END:VEVENT
BEGIN:VEVENT
DTSTAMP:20260425T021942
DTSTART;TZID=Europe/Berlin:20260424T170000
DTEND;TZID=Europe/Berlin:20260424T180000
UID:261KC811-20260424T170000@CSHFREIBURG
SUMMARY:English for Young Learners, leicht Fortgeschrittene, ab 8 Jahren 15 x 60 min. (261KC811) 
LOCATION:CSH, Kursraum 5, Eisenbahnstr. 62, 79098 Freiburg
END:VEVENT
BEGIN:VEVENT
DTSTAMP:20260425T021942
DTSTART;TZID=Europe/Berlin:20260508T170000
DTEND;TZID=Europe/Berlin:20260508T180000
UID:261KC811-20260508T170000@CSHFREIBURG
SUMMARY:English for Young Learners, leicht Fortgeschrittene, ab 8 Jahren 15 x 60 min. (261KC811) 
LOCATION:CSH, Kursraum 5, Eisenbahnstr. 62, 79098 Freiburg
END:VEVENT
BEGIN:VEVENT
DTSTAMP:20260425T021942
DTSTART;TZID=Europe/Berlin:20260515T170000
DTEND;TZID=Europe/Berlin:20260515T180000
UID:261KC811-20260515T170000@CSHFREIBURG
SUMMARY:English for Young Learners, leicht Fortgeschrittene, ab 8 Jahren 15 x 60 min. (261KC811) 
LOCATION:CSH, Kursraum 5, Eisenbahnstr. 62, 79098 Freiburg
END:VEVENT
BEGIN:VEVENT
DTSTAMP:20260425T021942
DTSTART;TZID=Europe/Berlin:20260522T170000
DTEND;TZID=Europe/Berlin:20260522T180000
UID:261KC811-20260522T170000@CSHFREIBURG
SUMMARY:English for Young Learners, leicht Fortgeschrittene, ab 8 Jahren 15 x 60 min. (261KC811) 
LOCATION:CSH, Kursraum 5, Eisenbahnstr. 62, 79098 Freiburg
END:VEVENT
BEGIN:VEVENT
DTSTAMP:20260425T021942
DTSTART;TZID=Europe/Berlin:20260612T170000
DTEND;TZID=Europe/Berlin:20260612T180000
UID:261KC811-20260612T170000@CSHFREIBURG
SUMMARY:English for Young Learners, leicht Fortgeschrittene, ab 8 Jahren 15 x 60 min. (261KC811) 
LOCATION:CSH, Kursraum 5, Eisenbahnstr. 62, 79098 Freiburg
END:VEVENT
BEGIN:VEVENT
DTSTAMP:20260425T021942
DTSTART;TZID=Europe/Berlin:20260619T170000
DTEND;TZID=Europe/Berlin:20260619T180000
UID:261KC811-20260619T170000@CSHFREIBURG
SUMMARY:English for Young Learners, leicht Fortgeschrittene, ab 8 Jahren 15 x 60 min. (261KC811) 
LOCATION:CSH, Kursraum 5, Eisenbahnstr. 62, 79098 Freiburg
END:VEVENT
BEGIN:VEVENT
DTSTAMP:20260425T021942
DTSTART;TZID=Europe/Berlin:20260626T170000
DTEND;TZID=Europe/Berlin:20260626T180000
UID:261KC811-20260626T170000@CSHFREIBURG
SUMMARY:English for Young Learners, leicht Fortgeschrittene, ab 8 Jahren 15 x 60 min. (261KC811) 
LOCATION:CSH, Kursraum 5, Eisenbahnstr. 62, 79098 Freiburg
END:VEVENT
BEGIN:VEVENT
DTSTAMP:20260425T021942
DTSTART;TZID=Europe/Berlin:20260703T170000
DTEND;TZID=Europe/Berlin:20260703T180000
UID:261KC811-20260703T170000@CSHFREIBURG
SUMMARY:English for Young Learners, leicht Fortgeschrittene, ab 8 Jahren 15 x 60 min. (261KC811) 
LOCATION:CSH, Kursraum 5, Eisenbahnstr. 62, 79098 Freiburg
END:VEVENT
BEGIN:VEVENT
DTSTAMP:20260425T021942
DTSTART;TZID=Europe/Berlin:20260710T170000
DTEND;TZID=Europe/Berlin:20260710T180000
UID:261KC811-20260710T170000@CSHFREIBURG
SUMMARY:English for Young Learners, leicht Fortgeschrittene, ab 8 Jahren 15 x 60 min. (261KC811) 
LOCATION:CSH, Kursraum 5, Eisenbahnstr. 62, 79098 Freiburg
END:VEVENT
END:VCALENDAR