BEGIN:VCALENDAR
VERSION:2.0
PRODID:https://www.kufer.de/kuferweb / DE
METHOD:PUBLISH
CALSCALE:GREGORIAN
X-WR-TIMEZONE:Europe/Berlin
BEGIN:VTIMEZONE
TZID:Europe/Berlin
X-LIC-LOCATION:Europe/Berlin
BEGIN:DAYLIGHT
TZOFFSETFROM:+0100
TZOFFSETTO:+0200
TZNAME:CEST
DTSTART:19700329T020000
RRULE:FREQ=YEARLY;INTERVAL=1;BYDAY=-1SU;BYMONTH=3
END:DAYLIGHT
BEGIN:STANDARD
TZOFFSETFROM:+0200
TZOFFSETTO:+0100
TZNAME:CET
DTSTART:19701025T030000
RRULE:FREQ=YEARLY;INTERVAL=1;BYDAY=-1SU;BYMONTH=10
END:STANDARD
END:VTIMEZONE
BEGIN:VEVENT
DTSTAMP:20260425T032041
DTSTART;TZID=Europe/Berlin:20260224T151500
DTEND;TZID=Europe/Berlin:20260224T161500
UID:261KC23-20260224T151500@CSHFREIBURG
SUMMARY:Englisch für Vorschulkinder ab 2 Jahren 16 x 60 min. (261KC23) 
LOCATION:CSH, Kursraum 5, Eisenbahnstr. 62, 79098 Freiburg
END:VEVENT
BEGIN:VEVENT
DTSTAMP:20260425T032041
DTSTART;TZID=Europe/Berlin:20260303T151500
DTEND;TZID=Europe/Berlin:20260303T161500
UID:261KC23-20260303T151500@CSHFREIBURG
SUMMARY:Englisch für Vorschulkinder ab 2 Jahren 16 x 60 min. (261KC23) 
LOCATION:CSH, Kursraum 5, Eisenbahnstr. 62, 79098 Freiburg
END:VEVENT
BEGIN:VEVENT
DTSTAMP:20260425T032041
DTSTART;TZID=Europe/Berlin:20260310T151500
DTEND;TZID=Europe/Berlin:20260310T161500
UID:261KC23-20260310T151500@CSHFREIBURG
SUMMARY:Englisch für Vorschulkinder ab 2 Jahren 16 x 60 min. (261KC23) 
LOCATION:CSH, Kursraum 5, Eisenbahnstr. 62, 79098 Freiburg
END:VEVENT
BEGIN:VEVENT
DTSTAMP:20260425T032041
DTSTART;TZID=Europe/Berlin:20260317T151500
DTEND;TZID=Europe/Berlin:20260317T161500
UID:261KC23-20260317T151500@CSHFREIBURG
SUMMARY:Englisch für Vorschulkinder ab 2 Jahren 16 x 60 min. (261KC23) 
LOCATION:CSH, Kursraum 5, Eisenbahnstr. 62, 79098 Freiburg
END:VEVENT
BEGIN:VEVENT
DTSTAMP:20260425T032041
DTSTART;TZID=Europe/Berlin:20260324T151500
DTEND;TZID=Europe/Berlin:20260324T161500
UID:261KC23-20260324T151500@CSHFREIBURG
SUMMARY:Englisch für Vorschulkinder ab 2 Jahren 16 x 60 min. (261KC23) 
LOCATION:CSH, Kursraum 5, Eisenbahnstr. 62, 79098 Freiburg
END:VEVENT
BEGIN:VEVENT
DTSTAMP:20260425T032041
DTSTART;TZID=Europe/Berlin:20260414T151500
DTEND;TZID=Europe/Berlin:20260414T161500
UID:261KC23-20260414T151500@CSHFREIBURG
SUMMARY:Englisch für Vorschulkinder ab 2 Jahren 16 x 60 min. (261KC23) 
LOCATION:CSH, Kursraum 5, Eisenbahnstr. 62, 79098 Freiburg
END:VEVENT
BEGIN:VEVENT
DTSTAMP:20260425T032041
DTSTART;TZID=Europe/Berlin:20260421T151500
DTEND;TZID=Europe/Berlin:20260421T161500
UID:261KC23-20260421T151500@CSHFREIBURG
SUMMARY:Englisch für Vorschulkinder ab 2 Jahren 16 x 60 min. (261KC23) 
LOCATION:CSH, Kursraum 5, Eisenbahnstr. 62, 79098 Freiburg
END:VEVENT
BEGIN:VEVENT
DTSTAMP:20260425T032041
DTSTART;TZID=Europe/Berlin:20260428T151500
DTEND;TZID=Europe/Berlin:20260428T161500
UID:261KC23-20260428T151500@CSHFREIBURG
SUMMARY:Englisch für Vorschulkinder ab 2 Jahren 16 x 60 min. (261KC23) 
LOCATION:CSH, Kursraum 5, Eisenbahnstr. 62, 79098 Freiburg
END:VEVENT
BEGIN:VEVENT
DTSTAMP:20260425T032041
DTSTART;TZID=Europe/Berlin:20260505T151500
DTEND;TZID=Europe/Berlin:20260505T161500
UID:261KC23-20260505T151500@CSHFREIBURG
SUMMARY:Englisch für Vorschulkinder ab 2 Jahren 16 x 60 min. (261KC23) 
LOCATION:CSH, Kursraum 5, Eisenbahnstr. 62, 79098 Freiburg
END:VEVENT
BEGIN:VEVENT
DTSTAMP:20260425T032041
DTSTART;TZID=Europe/Berlin:20260512T151500
DTEND;TZID=Europe/Berlin:20260512T161500
UID:261KC23-20260512T151500@CSHFREIBURG
SUMMARY:Englisch für Vorschulkinder ab 2 Jahren 16 x 60 min. (261KC23) 
LOCATION:CSH, Kursraum 5, Eisenbahnstr. 62, 79098 Freiburg
END:VEVENT
BEGIN:VEVENT
DTSTAMP:20260425T032041
DTSTART;TZID=Europe/Berlin:20260519T151500
DTEND;TZID=Europe/Berlin:20260519T161500
UID:261KC23-20260519T151500@CSHFREIBURG
SUMMARY:Englisch für Vorschulkinder ab 2 Jahren 16 x 60 min. (261KC23) 
LOCATION:CSH, Kursraum 5, Eisenbahnstr. 62, 79098 Freiburg
END:VEVENT
BEGIN:VEVENT
DTSTAMP:20260425T032041
DTSTART;TZID=Europe/Berlin:20260609T151500
DTEND;TZID=Europe/Berlin:20260609T161500
UID:261KC23-20260609T151500@CSHFREIBURG
SUMMARY:Englisch für Vorschulkinder ab 2 Jahren 16 x 60 min. (261KC23) 
LOCATION:CSH, Kursraum 5, Eisenbahnstr. 62, 79098 Freiburg
END:VEVENT
BEGIN:VEVENT
DTSTAMP:20260425T032041
DTSTART;TZID=Europe/Berlin:20260616T151500
DTEND;TZID=Europe/Berlin:20260616T161500
UID:261KC23-20260616T151500@CSHFREIBURG
SUMMARY:Englisch für Vorschulkinder ab 2 Jahren 16 x 60 min. (261KC23) 
LOCATION:CSH, Kursraum 5, Eisenbahnstr. 62, 79098 Freiburg
END:VEVENT
BEGIN:VEVENT
DTSTAMP:20260425T032041
DTSTART;TZID=Europe/Berlin:20260623T151500
DTEND;TZID=Europe/Berlin:20260623T161500
UID:261KC23-20260623T151500@CSHFREIBURG
SUMMARY:Englisch für Vorschulkinder ab 2 Jahren 16 x 60 min. (261KC23) 
LOCATION:CSH, Kursraum 5, Eisenbahnstr. 62, 79098 Freiburg
END:VEVENT
BEGIN:VEVENT
DTSTAMP:20260425T032041
DTSTART;TZID=Europe/Berlin:20260630T151500
DTEND;TZID=Europe/Berlin:20260630T161500
UID:261KC23-20260630T151500@CSHFREIBURG
SUMMARY:Englisch für Vorschulkinder ab 2 Jahren 16 x 60 min. (261KC23) 
LOCATION:CSH, Kursraum 5, Eisenbahnstr. 62, 79098 Freiburg
END:VEVENT
BEGIN:VEVENT
DTSTAMP:20260425T032041
DTSTART;TZID=Europe/Berlin:20260707T151500
DTEND;TZID=Europe/Berlin:20260707T161500
UID:261KC23-20260707T151500@CSHFREIBURG
SUMMARY:Englisch für Vorschulkinder ab 2 Jahren 16 x 60 min. (261KC23) 
LOCATION:CSH, Kursraum 5, Eisenbahnstr. 62, 79098 Freiburg
END:VEVENT
END:VCALENDAR