BEGIN:VCALENDAR
VERSION:2.0
PRODID:https://www.kufer.de/kuferweb / DE
METHOD:PUBLISH
CALSCALE:GREGORIAN
X-WR-TIMEZONE:Europe/Berlin
BEGIN:VTIMEZONE
TZID:Europe/Berlin
X-LIC-LOCATION:Europe/Berlin
BEGIN:DAYLIGHT
TZOFFSETFROM:+0100
TZOFFSETTO:+0200
TZNAME:CEST
DTSTART:19700329T020000
RRULE:FREQ=YEARLY;INTERVAL=1;BYDAY=-1SU;BYMONTH=3
END:DAYLIGHT
BEGIN:STANDARD
TZOFFSETFROM:+0200
TZOFFSETTO:+0100
TZNAME:CET
DTSTART:19701025T030000
RRULE:FREQ=YEARLY;INTERVAL=1;BYDAY=-1SU;BYMONTH=10
END:STANDARD
END:VTIMEZONE
BEGIN:VEVENT
DTSTAMP:20260425T021946
DTSTART;TZID=Europe/Berlin:20260225T160000
DTEND;TZID=Europe/Berlin:20260225T173000
UID:261KC15-20260225T160000@CSHFREIBURG
SUMMARY:English for Bilingual & Advanced Kids - Secondary School ab 15 Jahre 16 x 90 min. (261KC15) 
LOCATION:CSH, Kursraum 1, Eisenbahnstr. 62, 79098 Freiburg
END:VEVENT
BEGIN:VEVENT
DTSTAMP:20260425T021946
DTSTART;TZID=Europe/Berlin:20260304T160000
DTEND;TZID=Europe/Berlin:20260304T173000
UID:261KC15-20260304T160000@CSHFREIBURG
SUMMARY:English for Bilingual & Advanced Kids - Secondary School ab 15 Jahre 16 x 90 min. (261KC15) 
LOCATION:CSH, Kursraum 1, Eisenbahnstr. 62, 79098 Freiburg
END:VEVENT
BEGIN:VEVENT
DTSTAMP:20260425T021946
DTSTART;TZID=Europe/Berlin:20260311T160000
DTEND;TZID=Europe/Berlin:20260311T173000
UID:261KC15-20260311T160000@CSHFREIBURG
SUMMARY:English for Bilingual & Advanced Kids - Secondary School ab 15 Jahre 16 x 90 min. (261KC15) 
LOCATION:CSH, Kursraum 1, Eisenbahnstr. 62, 79098 Freiburg
END:VEVENT
BEGIN:VEVENT
DTSTAMP:20260425T021946
DTSTART;TZID=Europe/Berlin:20260318T160000
DTEND;TZID=Europe/Berlin:20260318T173000
UID:261KC15-20260318T160000@CSHFREIBURG
SUMMARY:English for Bilingual & Advanced Kids - Secondary School ab 15 Jahre 16 x 90 min. (261KC15) 
LOCATION:CSH, Kursraum 1, Eisenbahnstr. 62, 79098 Freiburg
END:VEVENT
BEGIN:VEVENT
DTSTAMP:20260425T021946
DTSTART;TZID=Europe/Berlin:20260325T160000
DTEND;TZID=Europe/Berlin:20260325T173000
UID:261KC15-20260325T160000@CSHFREIBURG
SUMMARY:English for Bilingual & Advanced Kids - Secondary School ab 15 Jahre 16 x 90 min. (261KC15) 
LOCATION:CSH, Kursraum 1, Eisenbahnstr. 62, 79098 Freiburg
END:VEVENT
BEGIN:VEVENT
DTSTAMP:20260425T021946
DTSTART;TZID=Europe/Berlin:20260415T160000
DTEND;TZID=Europe/Berlin:20260415T173000
UID:261KC15-20260415T160000@CSHFREIBURG
SUMMARY:English for Bilingual & Advanced Kids - Secondary School ab 15 Jahre 16 x 90 min. (261KC15) 
LOCATION:CSH, Kursraum 1, Eisenbahnstr. 62, 79098 Freiburg
END:VEVENT
BEGIN:VEVENT
DTSTAMP:20260425T021946
DTSTART;TZID=Europe/Berlin:20260422T160000
DTEND;TZID=Europe/Berlin:20260422T173000
UID:261KC15-20260422T160000@CSHFREIBURG
SUMMARY:English for Bilingual & Advanced Kids - Secondary School ab 15 Jahre 16 x 90 min. (261KC15) 
LOCATION:CSH, Kursraum 1, Eisenbahnstr. 62, 79098 Freiburg
END:VEVENT
BEGIN:VEVENT
DTSTAMP:20260425T021946
DTSTART;TZID=Europe/Berlin:20260429T160000
DTEND;TZID=Europe/Berlin:20260429T173000
UID:261KC15-20260429T160000@CSHFREIBURG
SUMMARY:English for Bilingual & Advanced Kids - Secondary School ab 15 Jahre 16 x 90 min. (261KC15) 
LOCATION:CSH, Kursraum 1, Eisenbahnstr. 62, 79098 Freiburg
END:VEVENT
BEGIN:VEVENT
DTSTAMP:20260425T021946
DTSTART;TZID=Europe/Berlin:20260506T160000
DTEND;TZID=Europe/Berlin:20260506T173000
UID:261KC15-20260506T160000@CSHFREIBURG
SUMMARY:English for Bilingual & Advanced Kids - Secondary School ab 15 Jahre 16 x 90 min. (261KC15) 
LOCATION:CSH, Kursraum 1, Eisenbahnstr. 62, 79098 Freiburg
END:VEVENT
BEGIN:VEVENT
DTSTAMP:20260425T021946
DTSTART;TZID=Europe/Berlin:20260513T160000
DTEND;TZID=Europe/Berlin:20260513T173000
UID:261KC15-20260513T160000@CSHFREIBURG
SUMMARY:English for Bilingual & Advanced Kids - Secondary School ab 15 Jahre 16 x 90 min. (261KC15) 
LOCATION:CSH, Kursraum 1, Eisenbahnstr. 62, 79098 Freiburg
END:VEVENT
BEGIN:VEVENT
DTSTAMP:20260425T021946
DTSTART;TZID=Europe/Berlin:20260520T160000
DTEND;TZID=Europe/Berlin:20260520T173000
UID:261KC15-20260520T160000@CSHFREIBURG
SUMMARY:English for Bilingual & Advanced Kids - Secondary School ab 15 Jahre 16 x 90 min. (261KC15) 
LOCATION:CSH, Kursraum 1, Eisenbahnstr. 62, 79098 Freiburg
END:VEVENT
BEGIN:VEVENT
DTSTAMP:20260425T021946
DTSTART;TZID=Europe/Berlin:20260610T160000
DTEND;TZID=Europe/Berlin:20260610T173000
UID:261KC15-20260610T160000@CSHFREIBURG
SUMMARY:English for Bilingual & Advanced Kids - Secondary School ab 15 Jahre 16 x 90 min. (261KC15) 
LOCATION:CSH, Kursraum 1, Eisenbahnstr. 62, 79098 Freiburg
END:VEVENT
BEGIN:VEVENT
DTSTAMP:20260425T021946
DTSTART;TZID=Europe/Berlin:20260617T160000
DTEND;TZID=Europe/Berlin:20260617T173000
UID:261KC15-20260617T160000@CSHFREIBURG
SUMMARY:English for Bilingual & Advanced Kids - Secondary School ab 15 Jahre 16 x 90 min. (261KC15) 
LOCATION:CSH, Kursraum 1, Eisenbahnstr. 62, 79098 Freiburg
END:VEVENT
BEGIN:VEVENT
DTSTAMP:20260425T021946
DTSTART;TZID=Europe/Berlin:20260624T160000
DTEND;TZID=Europe/Berlin:20260624T173000
UID:261KC15-20260624T160000@CSHFREIBURG
SUMMARY:English for Bilingual & Advanced Kids - Secondary School ab 15 Jahre 16 x 90 min. (261KC15) 
LOCATION:CSH, Kursraum 1, Eisenbahnstr. 62, 79098 Freiburg
END:VEVENT
BEGIN:VEVENT
DTSTAMP:20260425T021946
DTSTART;TZID=Europe/Berlin:20260701T160000
DTEND;TZID=Europe/Berlin:20260701T173000
UID:261KC15-20260701T160000@CSHFREIBURG
SUMMARY:English for Bilingual & Advanced Kids - Secondary School ab 15 Jahre 16 x 90 min. (261KC15) 
LOCATION:CSH, Kursraum 1, Eisenbahnstr. 62, 79098 Freiburg
END:VEVENT
BEGIN:VEVENT
DTSTAMP:20260425T021946
DTSTART;TZID=Europe/Berlin:20260708T160000
DTEND;TZID=Europe/Berlin:20260708T173000
UID:261KC15-20260708T160000@CSHFREIBURG
SUMMARY:English for Bilingual & Advanced Kids - Secondary School ab 15 Jahre 16 x 90 min. (261KC15) 
LOCATION:CSH, Kursraum 1, Eisenbahnstr. 62, 79098 Freiburg
END:VEVENT
END:VCALENDAR