BEGIN:VCALENDAR
VERSION:2.0
PRODID:https://www.kufer.de/kuferweb / DE
METHOD:PUBLISH
CALSCALE:GREGORIAN
X-WR-TIMEZONE:Europe/Berlin
BEGIN:VTIMEZONE
TZID:Europe/Berlin
X-LIC-LOCATION:Europe/Berlin
BEGIN:DAYLIGHT
TZOFFSETFROM:+0100
TZOFFSETTO:+0200
TZNAME:CEST
DTSTART:19700329T020000
RRULE:FREQ=YEARLY;INTERVAL=1;BYDAY=-1SU;BYMONTH=3
END:DAYLIGHT
BEGIN:STANDARD
TZOFFSETFROM:+0200
TZOFFSETTO:+0100
TZNAME:CET
DTSTART:19701025T030000
RRULE:FREQ=YEARLY;INTERVAL=1;BYDAY=-1SU;BYMONTH=10
END:STANDARD
END:VTIMEZONE
BEGIN:VEVENT
DTSTAMP:20260425T004055
DTSTART;TZID=Europe/Berlin:20260227T161500
DTEND;TZID=Europe/Berlin:20260227T171500
UID:261KC14-20260227T161500@CSHFREIBURG
SUMMARY:English for Young Learners ab 14 Jahre, Fortgeschrittene  15x60 min. (261KC14) 
LOCATION:CSH, Kursraum 1, Eisenbahnstr. 62, 79098 Freiburg
END:VEVENT
BEGIN:VEVENT
DTSTAMP:20260425T004055
DTSTART;TZID=Europe/Berlin:20260306T161500
DTEND;TZID=Europe/Berlin:20260306T171500
UID:261KC14-20260306T161500@CSHFREIBURG
SUMMARY:English for Young Learners ab 14 Jahre, Fortgeschrittene  15x60 min. (261KC14) 
LOCATION:CSH, Kursraum 1, Eisenbahnstr. 62, 79098 Freiburg
END:VEVENT
BEGIN:VEVENT
DTSTAMP:20260425T004055
DTSTART;TZID=Europe/Berlin:20260313T161500
DTEND;TZID=Europe/Berlin:20260313T171500
UID:261KC14-20260313T161500@CSHFREIBURG
SUMMARY:English for Young Learners ab 14 Jahre, Fortgeschrittene  15x60 min. (261KC14) 
LOCATION:CSH, Kursraum 1, Eisenbahnstr. 62, 79098 Freiburg
END:VEVENT
BEGIN:VEVENT
DTSTAMP:20260425T004055
DTSTART;TZID=Europe/Berlin:20260320T161500
DTEND;TZID=Europe/Berlin:20260320T171500
UID:261KC14-20260320T161500@CSHFREIBURG
SUMMARY:English for Young Learners ab 14 Jahre, Fortgeschrittene  15x60 min. (261KC14) 
LOCATION:CSH, Kursraum 1, Eisenbahnstr. 62, 79098 Freiburg
END:VEVENT
BEGIN:VEVENT
DTSTAMP:20260425T004055
DTSTART;TZID=Europe/Berlin:20260327T161500
DTEND;TZID=Europe/Berlin:20260327T171500
UID:261KC14-20260327T161500@CSHFREIBURG
SUMMARY:English for Young Learners ab 14 Jahre, Fortgeschrittene  15x60 min. (261KC14) 
LOCATION:CSH, Kursraum 1, Eisenbahnstr. 62, 79098 Freiburg
END:VEVENT
BEGIN:VEVENT
DTSTAMP:20260425T004055
DTSTART;TZID=Europe/Berlin:20260417T161500
DTEND;TZID=Europe/Berlin:20260417T171500
UID:261KC14-20260417T161500@CSHFREIBURG
SUMMARY:English for Young Learners ab 14 Jahre, Fortgeschrittene  15x60 min. (261KC14) 
LOCATION:CSH, Kursraum 1, Eisenbahnstr. 62, 79098 Freiburg
END:VEVENT
BEGIN:VEVENT
DTSTAMP:20260425T004055
DTSTART;TZID=Europe/Berlin:20260424T161500
DTEND;TZID=Europe/Berlin:20260424T171500
UID:261KC14-20260424T161500@CSHFREIBURG
SUMMARY:English for Young Learners ab 14 Jahre, Fortgeschrittene  15x60 min. (261KC14) 
LOCATION:CSH, Kursraum 1, Eisenbahnstr. 62, 79098 Freiburg
END:VEVENT
BEGIN:VEVENT
DTSTAMP:20260425T004055
DTSTART;TZID=Europe/Berlin:20260508T161500
DTEND;TZID=Europe/Berlin:20260508T171500
UID:261KC14-20260508T161500@CSHFREIBURG
SUMMARY:English for Young Learners ab 14 Jahre, Fortgeschrittene  15x60 min. (261KC14) 
LOCATION:CSH, Kursraum 1, Eisenbahnstr. 62, 79098 Freiburg
END:VEVENT
BEGIN:VEVENT
DTSTAMP:20260425T004055
DTSTART;TZID=Europe/Berlin:20260515T161500
DTEND;TZID=Europe/Berlin:20260515T171500
UID:261KC14-20260515T161500@CSHFREIBURG
SUMMARY:English for Young Learners ab 14 Jahre, Fortgeschrittene  15x60 min. (261KC14) 
LOCATION:CSH, Kursraum 1, Eisenbahnstr. 62, 79098 Freiburg
END:VEVENT
BEGIN:VEVENT
DTSTAMP:20260425T004055
DTSTART;TZID=Europe/Berlin:20260522T161500
DTEND;TZID=Europe/Berlin:20260522T171500
UID:261KC14-20260522T161500@CSHFREIBURG
SUMMARY:English for Young Learners ab 14 Jahre, Fortgeschrittene  15x60 min. (261KC14) 
LOCATION:CSH, Kursraum 1, Eisenbahnstr. 62, 79098 Freiburg
END:VEVENT
BEGIN:VEVENT
DTSTAMP:20260425T004055
DTSTART;TZID=Europe/Berlin:20260612T161500
DTEND;TZID=Europe/Berlin:20260612T171500
UID:261KC14-20260612T161500@CSHFREIBURG
SUMMARY:English for Young Learners ab 14 Jahre, Fortgeschrittene  15x60 min. (261KC14) 
LOCATION:CSH, Kursraum 1, Eisenbahnstr. 62, 79098 Freiburg
END:VEVENT
BEGIN:VEVENT
DTSTAMP:20260425T004055
DTSTART;TZID=Europe/Berlin:20260619T161500
DTEND;TZID=Europe/Berlin:20260619T171500
UID:261KC14-20260619T161500@CSHFREIBURG
SUMMARY:English for Young Learners ab 14 Jahre, Fortgeschrittene  15x60 min. (261KC14) 
LOCATION:CSH, Kursraum 1, Eisenbahnstr. 62, 79098 Freiburg
END:VEVENT
BEGIN:VEVENT
DTSTAMP:20260425T004055
DTSTART;TZID=Europe/Berlin:20260626T161500
DTEND;TZID=Europe/Berlin:20260626T171500
UID:261KC14-20260626T161500@CSHFREIBURG
SUMMARY:English for Young Learners ab 14 Jahre, Fortgeschrittene  15x60 min. (261KC14) 
LOCATION:CSH, Kursraum 1, Eisenbahnstr. 62, 79098 Freiburg
END:VEVENT
BEGIN:VEVENT
DTSTAMP:20260425T004055
DTSTART;TZID=Europe/Berlin:20260703T161500
DTEND;TZID=Europe/Berlin:20260703T171500
UID:261KC14-20260703T161500@CSHFREIBURG
SUMMARY:English for Young Learners ab 14 Jahre, Fortgeschrittene  15x60 min. (261KC14) 
LOCATION:CSH, Kursraum 1, Eisenbahnstr. 62, 79098 Freiburg
END:VEVENT
BEGIN:VEVENT
DTSTAMP:20260425T004055
DTSTART;TZID=Europe/Berlin:20260710T161500
DTEND;TZID=Europe/Berlin:20260710T171500
UID:261KC14-20260710T161500@CSHFREIBURG
SUMMARY:English for Young Learners ab 14 Jahre, Fortgeschrittene  15x60 min. (261KC14) 
LOCATION:CSH, Kursraum 1, Eisenbahnstr. 62, 79098 Freiburg
END:VEVENT
END:VCALENDAR