BEGIN:VCALENDAR
VERSION:2.0
PRODID:https://www.kufer.de/kuferweb / DE
METHOD:PUBLISH
CALSCALE:GREGORIAN
X-WR-TIMEZONE:Europe/Berlin
BEGIN:VTIMEZONE
TZID:Europe/Berlin
X-LIC-LOCATION:Europe/Berlin
BEGIN:DAYLIGHT
TZOFFSETFROM:+0100
TZOFFSETTO:+0200
TZNAME:CEST
DTSTART:19700329T020000
RRULE:FREQ=YEARLY;INTERVAL=1;BYDAY=-1SU;BYMONTH=3
END:DAYLIGHT
BEGIN:STANDARD
TZOFFSETFROM:+0200
TZOFFSETTO:+0100
TZNAME:CET
DTSTART:19701025T030000
RRULE:FREQ=YEARLY;INTERVAL=1;BYDAY=-1SU;BYMONTH=10
END:STANDARD
END:VTIMEZONE
BEGIN:VEVENT
DTSTAMP:20260425T033650
DTSTART;TZID=Europe/Berlin:20260227T154500
DTEND;TZID=Europe/Berlin:20260227T164500
UID:261KC13-20260227T154500@CSHFREIBURG
SUMMARY:Englisch für fortgeschrittene Schüler:innen der 7/8. Klasse 15x 60 min. (261KC13) 
LOCATION:CSH, Kursraum 4, Eisenbahnstr. 62, 79098 Freiburg
END:VEVENT
BEGIN:VEVENT
DTSTAMP:20260425T033650
DTSTART;TZID=Europe/Berlin:20260306T154500
DTEND;TZID=Europe/Berlin:20260306T164500
UID:261KC13-20260306T154500@CSHFREIBURG
SUMMARY:Englisch für fortgeschrittene Schüler:innen der 7/8. Klasse 15x 60 min. (261KC13) 
LOCATION:CSH, Kursraum 4, Eisenbahnstr. 62, 79098 Freiburg
END:VEVENT
BEGIN:VEVENT
DTSTAMP:20260425T033650
DTSTART;TZID=Europe/Berlin:20260313T154500
DTEND;TZID=Europe/Berlin:20260313T164500
UID:261KC13-20260313T154500@CSHFREIBURG
SUMMARY:Englisch für fortgeschrittene Schüler:innen der 7/8. Klasse 15x 60 min. (261KC13) 
LOCATION:CSH, Kursraum 4, Eisenbahnstr. 62, 79098 Freiburg
END:VEVENT
BEGIN:VEVENT
DTSTAMP:20260425T033650
DTSTART;TZID=Europe/Berlin:20260320T154500
DTEND;TZID=Europe/Berlin:20260320T164500
UID:261KC13-20260320T154500@CSHFREIBURG
SUMMARY:Englisch für fortgeschrittene Schüler:innen der 7/8. Klasse 15x 60 min. (261KC13) 
LOCATION:CSH, Kursraum 4, Eisenbahnstr. 62, 79098 Freiburg
END:VEVENT
BEGIN:VEVENT
DTSTAMP:20260425T033650
DTSTART;TZID=Europe/Berlin:20260327T154500
DTEND;TZID=Europe/Berlin:20260327T164500
UID:261KC13-20260327T154500@CSHFREIBURG
SUMMARY:Englisch für fortgeschrittene Schüler:innen der 7/8. Klasse 15x 60 min. (261KC13) 
LOCATION:CSH, Kursraum 4, Eisenbahnstr. 62, 79098 Freiburg
END:VEVENT
BEGIN:VEVENT
DTSTAMP:20260425T033650
DTSTART;TZID=Europe/Berlin:20260417T154500
DTEND;TZID=Europe/Berlin:20260417T164500
UID:261KC13-20260417T154500@CSHFREIBURG
SUMMARY:Englisch für fortgeschrittene Schüler:innen der 7/8. Klasse 15x 60 min. (261KC13) 
LOCATION:CSH, Kursraum 4, Eisenbahnstr. 62, 79098 Freiburg
END:VEVENT
BEGIN:VEVENT
DTSTAMP:20260425T033650
DTSTART;TZID=Europe/Berlin:20260424T154500
DTEND;TZID=Europe/Berlin:20260424T164500
UID:261KC13-20260424T154500@CSHFREIBURG
SUMMARY:Englisch für fortgeschrittene Schüler:innen der 7/8. Klasse 15x 60 min. (261KC13) 
LOCATION:CSH, Kursraum 4, Eisenbahnstr. 62, 79098 Freiburg
END:VEVENT
BEGIN:VEVENT
DTSTAMP:20260425T033650
DTSTART;TZID=Europe/Berlin:20260508T154500
DTEND;TZID=Europe/Berlin:20260508T164500
UID:261KC13-20260508T154500@CSHFREIBURG
SUMMARY:Englisch für fortgeschrittene Schüler:innen der 7/8. Klasse 15x 60 min. (261KC13) 
LOCATION:CSH, Kursraum 4, Eisenbahnstr. 62, 79098 Freiburg
END:VEVENT
BEGIN:VEVENT
DTSTAMP:20260425T033650
DTSTART;TZID=Europe/Berlin:20260515T154500
DTEND;TZID=Europe/Berlin:20260515T164500
UID:261KC13-20260515T154500@CSHFREIBURG
SUMMARY:Englisch für fortgeschrittene Schüler:innen der 7/8. Klasse 15x 60 min. (261KC13) 
LOCATION:CSH, Kursraum 4, Eisenbahnstr. 62, 79098 Freiburg
END:VEVENT
BEGIN:VEVENT
DTSTAMP:20260425T033650
DTSTART;TZID=Europe/Berlin:20260522T154500
DTEND;TZID=Europe/Berlin:20260522T164500
UID:261KC13-20260522T154500@CSHFREIBURG
SUMMARY:Englisch für fortgeschrittene Schüler:innen der 7/8. Klasse 15x 60 min. (261KC13) 
LOCATION:CSH, Kursraum 4, Eisenbahnstr. 62, 79098 Freiburg
END:VEVENT
BEGIN:VEVENT
DTSTAMP:20260425T033650
DTSTART;TZID=Europe/Berlin:20260612T154500
DTEND;TZID=Europe/Berlin:20260612T164500
UID:261KC13-20260612T154500@CSHFREIBURG
SUMMARY:Englisch für fortgeschrittene Schüler:innen der 7/8. Klasse 15x 60 min. (261KC13) 
LOCATION:CSH, Kursraum 4, Eisenbahnstr. 62, 79098 Freiburg
END:VEVENT
BEGIN:VEVENT
DTSTAMP:20260425T033650
DTSTART;TZID=Europe/Berlin:20260619T154500
DTEND;TZID=Europe/Berlin:20260619T164500
UID:261KC13-20260619T154500@CSHFREIBURG
SUMMARY:Englisch für fortgeschrittene Schüler:innen der 7/8. Klasse 15x 60 min. (261KC13) 
LOCATION:CSH, Kursraum 4, Eisenbahnstr. 62, 79098 Freiburg
END:VEVENT
BEGIN:VEVENT
DTSTAMP:20260425T033650
DTSTART;TZID=Europe/Berlin:20260626T154500
DTEND;TZID=Europe/Berlin:20260626T164500
UID:261KC13-20260626T154500@CSHFREIBURG
SUMMARY:Englisch für fortgeschrittene Schüler:innen der 7/8. Klasse 15x 60 min. (261KC13) 
LOCATION:CSH, Kursraum 4, Eisenbahnstr. 62, 79098 Freiburg
END:VEVENT
BEGIN:VEVENT
DTSTAMP:20260425T033650
DTSTART;TZID=Europe/Berlin:20260703T154500
DTEND;TZID=Europe/Berlin:20260703T164500
UID:261KC13-20260703T154500@CSHFREIBURG
SUMMARY:Englisch für fortgeschrittene Schüler:innen der 7/8. Klasse 15x 60 min. (261KC13) 
LOCATION:CSH, Kursraum 4, Eisenbahnstr. 62, 79098 Freiburg
END:VEVENT
BEGIN:VEVENT
DTSTAMP:20260425T033650
DTSTART;TZID=Europe/Berlin:20260710T154500
DTEND;TZID=Europe/Berlin:20260710T164500
UID:261KC13-20260710T154500@CSHFREIBURG
SUMMARY:Englisch für fortgeschrittene Schüler:innen der 7/8. Klasse 15x 60 min. (261KC13) 
LOCATION:CSH, Kursraum 4, Eisenbahnstr. 62, 79098 Freiburg
END:VEVENT
END:VCALENDAR