BEGIN:VCALENDAR
VERSION:2.0
PRODID:https://www.kufer.de/kuferweb / DE
METHOD:PUBLISH
CALSCALE:GREGORIAN
X-WR-TIMEZONE:Europe/Berlin
BEGIN:VTIMEZONE
TZID:Europe/Berlin
X-LIC-LOCATION:Europe/Berlin
BEGIN:DAYLIGHT
TZOFFSETFROM:+0100
TZOFFSETTO:+0200
TZNAME:CEST
DTSTART:19700329T020000
RRULE:FREQ=YEARLY;INTERVAL=1;BYDAY=-1SU;BYMONTH=3
END:DAYLIGHT
BEGIN:STANDARD
TZOFFSETFROM:+0200
TZOFFSETTO:+0100
TZNAME:CET
DTSTART:19701025T030000
RRULE:FREQ=YEARLY;INTERVAL=1;BYDAY=-1SU;BYMONTH=10
END:STANDARD
END:VTIMEZONE
BEGIN:VEVENT
DTSTAMP:20260425T021931
DTSTART;TZID=Europe/Berlin:20260225T153000
DTEND;TZID=Europe/Berlin:20260225T163000
UID:261KC10-20260225T153000@CSHFREIBURG
SUMMARY:Englisch für Grundschüler:innen ab 10 Jahren, Bilingual Kids & Fortgeschrittene 16 x 60 min. (261KC10) 
LOCATION:CSH, Kursraum 2, Eisenbahnstr. 62, 79098 Freiburg
END:VEVENT
BEGIN:VEVENT
DTSTAMP:20260425T021931
DTSTART;TZID=Europe/Berlin:20260304T153000
DTEND;TZID=Europe/Berlin:20260304T163000
UID:261KC10-20260304T153000@CSHFREIBURG
SUMMARY:Englisch für Grundschüler:innen ab 10 Jahren, Bilingual Kids & Fortgeschrittene 16 x 60 min. (261KC10) 
LOCATION:CSH, Kursraum 2, Eisenbahnstr. 62, 79098 Freiburg
END:VEVENT
BEGIN:VEVENT
DTSTAMP:20260425T021931
DTSTART;TZID=Europe/Berlin:20260311T153000
DTEND;TZID=Europe/Berlin:20260311T163000
UID:261KC10-20260311T153000@CSHFREIBURG
SUMMARY:Englisch für Grundschüler:innen ab 10 Jahren, Bilingual Kids & Fortgeschrittene 16 x 60 min. (261KC10) 
LOCATION:CSH, Kursraum 2, Eisenbahnstr. 62, 79098 Freiburg
END:VEVENT
BEGIN:VEVENT
DTSTAMP:20260425T021931
DTSTART;TZID=Europe/Berlin:20260318T153000
DTEND;TZID=Europe/Berlin:20260318T163000
UID:261KC10-20260318T153000@CSHFREIBURG
SUMMARY:Englisch für Grundschüler:innen ab 10 Jahren, Bilingual Kids & Fortgeschrittene 16 x 60 min. (261KC10) 
LOCATION:CSH, Kursraum 2, Eisenbahnstr. 62, 79098 Freiburg
END:VEVENT
BEGIN:VEVENT
DTSTAMP:20260425T021932
DTSTART;TZID=Europe/Berlin:20260325T153000
DTEND;TZID=Europe/Berlin:20260325T163000
UID:261KC10-20260325T153000@CSHFREIBURG
SUMMARY:Englisch für Grundschüler:innen ab 10 Jahren, Bilingual Kids & Fortgeschrittene 16 x 60 min. (261KC10) 
LOCATION:CSH, Kursraum 2, Eisenbahnstr. 62, 79098 Freiburg
END:VEVENT
BEGIN:VEVENT
DTSTAMP:20260425T021932
DTSTART;TZID=Europe/Berlin:20260415T153000
DTEND;TZID=Europe/Berlin:20260415T163000
UID:261KC10-20260415T153000@CSHFREIBURG
SUMMARY:Englisch für Grundschüler:innen ab 10 Jahren, Bilingual Kids & Fortgeschrittene 16 x 60 min. (261KC10) 
LOCATION:CSH, Kursraum 2, Eisenbahnstr. 62, 79098 Freiburg
END:VEVENT
BEGIN:VEVENT
DTSTAMP:20260425T021932
DTSTART;TZID=Europe/Berlin:20260422T153000
DTEND;TZID=Europe/Berlin:20260422T163000
UID:261KC10-20260422T153000@CSHFREIBURG
SUMMARY:Englisch für Grundschüler:innen ab 10 Jahren, Bilingual Kids & Fortgeschrittene 16 x 60 min. (261KC10) 
LOCATION:CSH, Kursraum 2, Eisenbahnstr. 62, 79098 Freiburg
END:VEVENT
BEGIN:VEVENT
DTSTAMP:20260425T021932
DTSTART;TZID=Europe/Berlin:20260429T153000
DTEND;TZID=Europe/Berlin:20260429T163000
UID:261KC10-20260429T153000@CSHFREIBURG
SUMMARY:Englisch für Grundschüler:innen ab 10 Jahren, Bilingual Kids & Fortgeschrittene 16 x 60 min. (261KC10) 
LOCATION:CSH, Kursraum 2, Eisenbahnstr. 62, 79098 Freiburg
END:VEVENT
BEGIN:VEVENT
DTSTAMP:20260425T021932
DTSTART;TZID=Europe/Berlin:20260506T153000
DTEND;TZID=Europe/Berlin:20260506T163000
UID:261KC10-20260506T153000@CSHFREIBURG
SUMMARY:Englisch für Grundschüler:innen ab 10 Jahren, Bilingual Kids & Fortgeschrittene 16 x 60 min. (261KC10) 
LOCATION:CSH, Kursraum 2, Eisenbahnstr. 62, 79098 Freiburg
END:VEVENT
BEGIN:VEVENT
DTSTAMP:20260425T021932
DTSTART;TZID=Europe/Berlin:20260513T153000
DTEND;TZID=Europe/Berlin:20260513T163000
UID:261KC10-20260513T153000@CSHFREIBURG
SUMMARY:Englisch für Grundschüler:innen ab 10 Jahren, Bilingual Kids & Fortgeschrittene 16 x 60 min. (261KC10) 
LOCATION:CSH, Kursraum 2, Eisenbahnstr. 62, 79098 Freiburg
END:VEVENT
BEGIN:VEVENT
DTSTAMP:20260425T021932
DTSTART;TZID=Europe/Berlin:20260520T153000
DTEND;TZID=Europe/Berlin:20260520T163000
UID:261KC10-20260520T153000@CSHFREIBURG
SUMMARY:Englisch für Grundschüler:innen ab 10 Jahren, Bilingual Kids & Fortgeschrittene 16 x 60 min. (261KC10) 
LOCATION:CSH, Kursraum 2, Eisenbahnstr. 62, 79098 Freiburg
END:VEVENT
BEGIN:VEVENT
DTSTAMP:20260425T021932
DTSTART;TZID=Europe/Berlin:20260610T153000
DTEND;TZID=Europe/Berlin:20260610T163000
UID:261KC10-20260610T153000@CSHFREIBURG
SUMMARY:Englisch für Grundschüler:innen ab 10 Jahren, Bilingual Kids & Fortgeschrittene 16 x 60 min. (261KC10) 
LOCATION:CSH, Kursraum 2, Eisenbahnstr. 62, 79098 Freiburg
END:VEVENT
BEGIN:VEVENT
DTSTAMP:20260425T021932
DTSTART;TZID=Europe/Berlin:20260617T153000
DTEND;TZID=Europe/Berlin:20260617T163000
UID:261KC10-20260617T153000@CSHFREIBURG
SUMMARY:Englisch für Grundschüler:innen ab 10 Jahren, Bilingual Kids & Fortgeschrittene 16 x 60 min. (261KC10) 
LOCATION:CSH, Kursraum 2, Eisenbahnstr. 62, 79098 Freiburg
END:VEVENT
BEGIN:VEVENT
DTSTAMP:20260425T021932
DTSTART;TZID=Europe/Berlin:20260624T153000
DTEND;TZID=Europe/Berlin:20260624T163000
UID:261KC10-20260624T153000@CSHFREIBURG
SUMMARY:Englisch für Grundschüler:innen ab 10 Jahren, Bilingual Kids & Fortgeschrittene 16 x 60 min. (261KC10) 
LOCATION:CSH, Kursraum 2, Eisenbahnstr. 62, 79098 Freiburg
END:VEVENT
BEGIN:VEVENT
DTSTAMP:20260425T021932
DTSTART;TZID=Europe/Berlin:20260701T153000
DTEND;TZID=Europe/Berlin:20260701T163000
UID:261KC10-20260701T153000@CSHFREIBURG
SUMMARY:Englisch für Grundschüler:innen ab 10 Jahren, Bilingual Kids & Fortgeschrittene 16 x 60 min. (261KC10) 
LOCATION:CSH, Kursraum 2, Eisenbahnstr. 62, 79098 Freiburg
END:VEVENT
BEGIN:VEVENT
DTSTAMP:20260425T021932
DTSTART;TZID=Europe/Berlin:20260708T153000
DTEND;TZID=Europe/Berlin:20260708T163000
UID:261KC10-20260708T153000@CSHFREIBURG
SUMMARY:Englisch für Grundschüler:innen ab 10 Jahren, Bilingual Kids & Fortgeschrittene 16 x 60 min. (261KC10) 
LOCATION:CSH, Kursraum 2, Eisenbahnstr. 62, 79098 Freiburg
END:VEVENT
END:VCALENDAR