BEGIN:VCALENDAR
VERSION:2.0
PRODID:https://www.kufer.de/kuferweb / DE
METHOD:PUBLISH
CALSCALE:GREGORIAN
X-WR-TIMEZONE:Europe/Berlin
BEGIN:VTIMEZONE
TZID:Europe/Berlin
X-LIC-LOCATION:Europe/Berlin
BEGIN:DAYLIGHT
TZOFFSETFROM:+0100
TZOFFSETTO:+0200
TZNAME:CEST
DTSTART:19700329T020000
RRULE:FREQ=YEARLY;INTERVAL=1;BYDAY=-1SU;BYMONTH=3
END:DAYLIGHT
BEGIN:STANDARD
TZOFFSETFROM:+0200
TZOFFSETTO:+0100
TZNAME:CET
DTSTART:19701025T030000
RRULE:FREQ=YEARLY;INTERVAL=1;BYDAY=-1SU;BYMONTH=10
END:STANDARD
END:VTIMEZONE
BEGIN:VEVENT
DTSTAMP:20260425T021932
DTSTART;TZID=Europe/Berlin:20260227T163000
DTEND;TZID=Europe/Berlin:20260227T180000
UID:261AVK1-20260227T163000@CSHFREIBURG
SUMMARY:Englisch für Schüler:innen 11. und 12. Klasse (K1) Regelgymnasium (261AVK1) 
LOCATION:CSH, Kursraum 2, Eisenbahnstr. 62, 79098 Freiburg
END:VEVENT
BEGIN:VEVENT
DTSTAMP:20260425T021932
DTSTART;TZID=Europe/Berlin:20260306T163000
DTEND;TZID=Europe/Berlin:20260306T180000
UID:261AVK1-20260306T163000@CSHFREIBURG
SUMMARY:Englisch für Schüler:innen 11. und 12. Klasse (K1) Regelgymnasium (261AVK1) 
LOCATION:CSH, Kursraum 2, Eisenbahnstr. 62, 79098 Freiburg
END:VEVENT
BEGIN:VEVENT
DTSTAMP:20260425T021932
DTSTART;TZID=Europe/Berlin:20260313T163000
DTEND;TZID=Europe/Berlin:20260313T180000
UID:261AVK1-20260313T163000@CSHFREIBURG
SUMMARY:Englisch für Schüler:innen 11. und 12. Klasse (K1) Regelgymnasium (261AVK1) 
LOCATION:CSH, Kursraum 2, Eisenbahnstr. 62, 79098 Freiburg
END:VEVENT
BEGIN:VEVENT
DTSTAMP:20260425T021932
DTSTART;TZID=Europe/Berlin:20260320T163000
DTEND;TZID=Europe/Berlin:20260320T180000
UID:261AVK1-20260320T163000@CSHFREIBURG
SUMMARY:Englisch für Schüler:innen 11. und 12. Klasse (K1) Regelgymnasium (261AVK1) 
LOCATION:CSH, Kursraum 2, Eisenbahnstr. 62, 79098 Freiburg
END:VEVENT
BEGIN:VEVENT
DTSTAMP:20260425T021932
DTSTART;TZID=Europe/Berlin:20260327T163000
DTEND;TZID=Europe/Berlin:20260327T180000
UID:261AVK1-20260327T163000@CSHFREIBURG
SUMMARY:Englisch für Schüler:innen 11. und 12. Klasse (K1) Regelgymnasium (261AVK1) 
LOCATION:CSH, Kursraum 2, Eisenbahnstr. 62, 79098 Freiburg
END:VEVENT
BEGIN:VEVENT
DTSTAMP:20260425T021932
DTSTART;TZID=Europe/Berlin:20260417T163000
DTEND;TZID=Europe/Berlin:20260417T180000
UID:261AVK1-20260417T163000@CSHFREIBURG
SUMMARY:Englisch für Schüler:innen 11. und 12. Klasse (K1) Regelgymnasium (261AVK1) 
LOCATION:CSH, Kursraum 2, Eisenbahnstr. 62, 79098 Freiburg
END:VEVENT
BEGIN:VEVENT
DTSTAMP:20260425T021932
DTSTART;TZID=Europe/Berlin:20260424T163000
DTEND;TZID=Europe/Berlin:20260424T180000
UID:261AVK1-20260424T163000@CSHFREIBURG
SUMMARY:Englisch für Schüler:innen 11. und 12. Klasse (K1) Regelgymnasium (261AVK1) 
LOCATION:CSH, Kursraum 2, Eisenbahnstr. 62, 79098 Freiburg
END:VEVENT
BEGIN:VEVENT
DTSTAMP:20260425T021932
DTSTART;TZID=Europe/Berlin:20260508T163000
DTEND;TZID=Europe/Berlin:20260508T180000
UID:261AVK1-20260508T163000@CSHFREIBURG
SUMMARY:Englisch für Schüler:innen 11. und 12. Klasse (K1) Regelgymnasium (261AVK1) 
LOCATION:CSH, Kursraum 2, Eisenbahnstr. 62, 79098 Freiburg
END:VEVENT
BEGIN:VEVENT
DTSTAMP:20260425T021932
DTSTART;TZID=Europe/Berlin:20260515T163000
DTEND;TZID=Europe/Berlin:20260515T180000
UID:261AVK1-20260515T163000@CSHFREIBURG
SUMMARY:Englisch für Schüler:innen 11. und 12. Klasse (K1) Regelgymnasium (261AVK1) 
LOCATION:CSH, Kursraum 2, Eisenbahnstr. 62, 79098 Freiburg
END:VEVENT
BEGIN:VEVENT
DTSTAMP:20260425T021932
DTSTART;TZID=Europe/Berlin:20260522T163000
DTEND;TZID=Europe/Berlin:20260522T180000
UID:261AVK1-20260522T163000@CSHFREIBURG
SUMMARY:Englisch für Schüler:innen 11. und 12. Klasse (K1) Regelgymnasium (261AVK1) 
LOCATION:CSH, Kursraum 2, Eisenbahnstr. 62, 79098 Freiburg
END:VEVENT
BEGIN:VEVENT
DTSTAMP:20260425T021932
DTSTART;TZID=Europe/Berlin:20260612T163000
DTEND;TZID=Europe/Berlin:20260612T180000
UID:261AVK1-20260612T163000@CSHFREIBURG
SUMMARY:Englisch für Schüler:innen 11. und 12. Klasse (K1) Regelgymnasium (261AVK1) 
LOCATION:CSH, Kursraum 2, Eisenbahnstr. 62, 79098 Freiburg
END:VEVENT
BEGIN:VEVENT
DTSTAMP:20260425T021932
DTSTART;TZID=Europe/Berlin:20260619T163000
DTEND;TZID=Europe/Berlin:20260619T180000
UID:261AVK1-20260619T163000@CSHFREIBURG
SUMMARY:Englisch für Schüler:innen 11. und 12. Klasse (K1) Regelgymnasium (261AVK1) 
LOCATION:CSH, Kursraum 2, Eisenbahnstr. 62, 79098 Freiburg
END:VEVENT
BEGIN:VEVENT
DTSTAMP:20260425T021932
DTSTART;TZID=Europe/Berlin:20260626T163000
DTEND;TZID=Europe/Berlin:20260626T180000
UID:261AVK1-20260626T163000@CSHFREIBURG
SUMMARY:Englisch für Schüler:innen 11. und 12. Klasse (K1) Regelgymnasium (261AVK1) 
LOCATION:CSH, Kursraum 2, Eisenbahnstr. 62, 79098 Freiburg
END:VEVENT
BEGIN:VEVENT
DTSTAMP:20260425T021932
DTSTART;TZID=Europe/Berlin:20260703T163000
DTEND;TZID=Europe/Berlin:20260703T180000
UID:261AVK1-20260703T163000@CSHFREIBURG
SUMMARY:Englisch für Schüler:innen 11. und 12. Klasse (K1) Regelgymnasium (261AVK1) 
LOCATION:CSH, Kursraum 2, Eisenbahnstr. 62, 79098 Freiburg
END:VEVENT
BEGIN:VEVENT
DTSTAMP:20260425T021932
DTSTART;TZID=Europe/Berlin:20260710T163000
DTEND;TZID=Europe/Berlin:20260710T180000
UID:261AVK1-20260710T163000@CSHFREIBURG
SUMMARY:Englisch für Schüler:innen 11. und 12. Klasse (K1) Regelgymnasium (261AVK1) 
LOCATION:CSH, Kursraum 2, Eisenbahnstr. 62, 79098 Freiburg
END:VEVENT
END:VCALENDAR